BEGIN:VCALENDAR
VERSION:2.0
PRODID:-//School TIES - ECPv6.15.20//NONSGML v1.0//EN
CALSCALE:GREGORIAN
METHOD:PUBLISH
X-WR-CALNAME:School TIES
X-ORIGINAL-URL:https://schoolties.com.au
X-WR-CALDESC:Events for School TIES
REFRESH-INTERVAL;VALUE=DURATION:PT1H
X-Robots-Tag:noindex
X-PUBLISHED-TTL:PT1H
BEGIN:VTIMEZONE
TZID:Australia/Sydney
BEGIN:STANDARD
TZOFFSETFROM:+1100
TZOFFSETTO:+1000
TZNAME:AEST
DTSTART:20220402T160000
END:STANDARD
BEGIN:DAYLIGHT
TZOFFSETFROM:+1000
TZOFFSETTO:+1100
TZNAME:AEDT
DTSTART:20221001T160000
END:DAYLIGHT
BEGIN:STANDARD
TZOFFSETFROM:+1100
TZOFFSETTO:+1000
TZNAME:AEST
DTSTART:20230401T160000
END:STANDARD
BEGIN:DAYLIGHT
TZOFFSETFROM:+1000
TZOFFSETTO:+1100
TZNAME:AEDT
DTSTART:20230930T160000
END:DAYLIGHT
BEGIN:STANDARD
TZOFFSETFROM:+1100
TZOFFSETTO:+1000
TZNAME:AEST
DTSTART:20240406T160000
END:STANDARD
BEGIN:DAYLIGHT
TZOFFSETFROM:+1000
TZOFFSETTO:+1100
TZNAME:AEDT
DTSTART:20241005T160000
END:DAYLIGHT
BEGIN:STANDARD
TZOFFSETFROM:+1100
TZOFFSETTO:+1000
TZNAME:AEST
DTSTART:20250405T160000
END:STANDARD
BEGIN:DAYLIGHT
TZOFFSETFROM:+1000
TZOFFSETTO:+1100
TZNAME:AEDT
DTSTART:20251004T160000
END:DAYLIGHT
END:VTIMEZONE
BEGIN:VEVENT
DTSTART;VALUE=DATE:20231101
DTEND;VALUE=DATE:20231113
DTSTAMP:20260424T064209
CREATED:20230502T010749Z
LAST-MODIFIED:20230510T063631Z
UID:1685-1698796800-1699833599@schoolties.com.au
SUMMARY:Up Close: Somos
DESCRIPTION:Our first season of Up Close presents Somos\, a new world premiere by Rafael Bonachela. Meaning “we are” in Spanish\, this new work will feature a cascade of intimate solos\, duets and trios with a distinct Latin flavour.
URL:https://schoolties.com.au/whats-on/up-close-somos/
LOCATION:Neilson Studio at Sydney Dance Company
CATEGORIES:Dance,Performing Arts
ATTACH;FMTTYPE=image/jpeg:https://schoolties.com.au/wp-content/uploads/2023/05/SDC_SOMOS_0545_web_byPedroGreig-1800x1007-1.jpg
END:VEVENT
BEGIN:VEVENT
DTSTART;VALUE=DATE:20231026
DTEND;VALUE=DATE:20231210
DTSTAMP:20260424T064209
CREATED:20230502T011412Z
LAST-MODIFIED:20230510T063751Z
UID:1695-1698278400-1702166399@schoolties.com.au
SUMMARY:The Dictionary Of Lost Words
DESCRIPTION:Discover the secret power of words\nIt’s 1886 and the very first edition of the Oxford English Dictionary is being compiled. Four-year-old Esme Nicoll has a front row seat. Well\, she’s hiding under the sorting table\, anyway. As her father and his male colleagues decide which words stay and which go\, Esme collects the discarded (often gendered) scraps to compile her own far more radical\, far more magical dictionary.\nA sweeping historical tale in the spirit of The Harp in the South\, The Dictionary of Lost Words follows Esme from her childhood in the 1880s\, into adulthood at the height of the women’s suffrage movement and the beginning of the First World War.
URL:https://schoolties.com.au/whats-on/the-dictionary-of-lost-words/
LOCATION:Sydney Opera House
CATEGORIES:Drama,English,History
ATTACH;FMTTYPE=image/jpeg:https://schoolties.com.au/wp-content/uploads/2023/05/2023_The-Dictionary-of-Lost-Words_Web_Crop_715x430.jpg
END:VEVENT
BEGIN:VEVENT
DTSTART;VALUE=DATE:20231024
DTEND;VALUE=DATE:20231120
DTSTAMP:20260424T064209
CREATED:20230502T005822Z
LAST-MODIFIED:20230719T031741Z
UID:1678-1698105600-1700438399@schoolties.com.au
SUMMARY:Twelfth Night
DESCRIPTION:Viola is shipwrecked and believes her twin Sebastian lost to the ocean.\nWashed up in a strange new land\, determined to survive\, Viola disguises herself as a man named Cesario and finds work with Duke Orsino\, only to fall head over heels in love with him. But Orsino is in love with Olivia\, who – grieving for her brother – refuses all offers of romance. Until\, that is\, she meets Cesario for the first time. A whirlwind of passion ensues\, leaving no one unaffected\, not even Olivia’s prudish housekeeper Malvolia.
URL:https://schoolties.com.au/whats-on/twelfth-night/
LOCATION:Sydney Opera House
CATEGORIES:Drama,English
ATTACH;FMTTYPE=image/jpeg:https://schoolties.com.au/wp-content/uploads/2023/05/belle-shakespeare-twelfth-night-1600x900-1.jpg
END:VEVENT
BEGIN:VEVENT
DTSTART;VALUE=DATE:20231020
DTEND;VALUE=DATE:20231126
DTSTAMP:20260424T064209
CREATED:20230502T010828Z
LAST-MODIFIED:20230510T063826Z
UID:1688-1697760000-1700956799@schoolties.com.au
SUMMARY:The Memory of Water
DESCRIPTION:Mary\, Catherine and Teresa are sisters who share a common past. A world of disputed bicycles\, midnight ice-cream sodas\, cocktail dresses and their Mum’s perfumed advice. A seaside childhood punctuated by the odd monosyllable from Dad.  Where does reality end and family mythology begin?  Why has sibling war broken out in their Mother’s bedroom?  Why are past recollections still so with us?  THE MEMORY OF WATER takes a new look at the age-old traditions of recollecting family stories. A beautiful bittersweet comedy\, bound by sisterly love\, anger\, tears and of course laughter.
URL:https://schoolties.com.au/whats-on/the-memory-of-water/
LOCATION:Ensemble Theatre
CATEGORIES:Drama
ATTACH;FMTTYPE=image/jpeg:https://schoolties.com.au/wp-content/uploads/2023/05/Memory-of-Water-388x218-1.jpg
END:VEVENT
BEGIN:VEVENT
DTSTART;VALUE=DATE:20231020
DTEND;VALUE=DATE:20231107
DTSTAMP:20260424T064209
CREATED:20230809T013826Z
LAST-MODIFIED:20230809T013826Z
UID:2538-1697760000-1699315199@schoolties.com.au
SUMMARY:Sculpture by the Sea
DESCRIPTION:Sydney’s iconic Sculpture by the Sea exhibition is set to make a triumphant return this spring. Now in its 25th year\, the popular event will feature over 100 remarkable artworks dotted along the spectacular 2km Bondi to Tamarama coastal walk.
URL:https://schoolties.com.au/whats-on/sculpture-by-the-sea/
CATEGORIES:Design,Geography,Visual Arts
ATTACH;FMTTYPE=image/jpeg:https://schoolties.com.au/wp-content/uploads/2023/08/2023-Sculpture-By-The-Sea.jpg
END:VEVENT
BEGIN:VEVENT
DTSTART;VALUE=DATE:20231018
DTEND;VALUE=DATE:20231030
DTSTAMP:20260424T064209
CREATED:20230502T005750Z
LAST-MODIFIED:20230510T063921Z
UID:1676-1697587200-1698623999@schoolties.com.au
SUMMARY:Robyn Archer: An Australian Songbook
DESCRIPTION:Robyn Archer — icon\, legend of the Australian stage\, and provocateur — has thrilled audiences with her rich renditions of the great songbooks of Europe and America.  Now\, Robyn turns her distinctive and fearless talents to songs that describe the difficult\, wonderful place that is Australia. From the music of her upbringing to increasingly complex rhythms and cadences of the present\, we are taken on a journey into our beauty and our terror\, through song.  After this show\, you’ll hear our country through very different ears.  A trio of Australia’s finest stage musicians join Robyn as the Belvoir stage becomes a cabaret: piano accordion virtuoso George Butrumlis\, actor and multi-instrumentalist Cameron Goodall on guitar\, and the very deft Enio Pozzebon on keyboards.
URL:https://schoolties.com.au/whats-on/robyn-archer-an-australian-songbook/
LOCATION:Belvoir St Theatre
CATEGORIES:Music,Performing Arts
ATTACH;FMTTYPE=image/webp:https://schoolties.com.au/wp-content/uploads/2023/05/RobynArcher_Belvoir_2023-scaled-1.webp
END:VEVENT
BEGIN:VEVENT
DTSTART;VALUE=DATE:20231013
DTEND;VALUE=DATE:20231112
DTSTAMP:20260424T064209
CREATED:20230823T033355Z
LAST-MODIFIED:20230823T033355Z
UID:2607-1697155200-1699747199@schoolties.com.au
SUMMARY:A Little Night Music
DESCRIPTION:Set in Sweden in 1900\, actress Desiree Armfeldt is caught in a love triangle with lawyer Fredrik Egerman and Count Carl-Magnus Malcom…and their wives. After an unexpected invitation\, suspicion and jealousy heighten as the characters all meet for one climactic weekend in the country.
URL:https://schoolties.com.au/whats-on/a-little-night-music/
LOCATION:Hayes Theatre
CATEGORIES:Drama,Musicals,Performing Arts
ATTACH;FMTTYPE=image/webp:https://schoolties.com.au/wp-content/uploads/2023/08/2023-A-LIttle-Night-Music.webp
END:VEVENT
BEGIN:VEVENT
DTSTART;VALUE=DATE:20231012
DTEND;VALUE=DATE:20231022
DTSTAMP:20260424T064209
CREATED:20230628T044732Z
LAST-MODIFIED:20230628T044732Z
UID:2370-1697068800-1697932799@schoolties.com.au
SUMMARY:Dimanche
DESCRIPTION:Dimanche uses physical theatre to tell a dreamlike story about the uncontrollable forces of nature. Combining puppetry\, video and deadpan mime\, Dimanche observes the ingenuity of humans as they try to preserve their day-to-day habits despite the chaos of an ecological collapse.
URL:https://schoolties.com.au/whats-on/dimanche/
LOCATION:Sydney Opera House
CATEGORIES:Dance,Drama,Music,Performing Arts
ATTACH;FMTTYPE=image/webp:https://schoolties.com.au/wp-content/uploads/2023/06/2023-Dimanche.webp
END:VEVENT
BEGIN:VEVENT
DTSTART;VALUE=DATE:20230929
DTEND;VALUE=DATE:20231022
DTSTAMP:20260424T064209
CREATED:20230502T005712Z
LAST-MODIFIED:20230510T063952Z
UID:1673-1695945600-1697932799@schoolties.com.au
SUMMARY:Venus and Adonis
DESCRIPTION:It’s 1593. Theatres are closed\, players out of work\, houses bolted\, people terrified by the touch of another’s skin\, the breath of another’s air.  Shakespeare\, syphilitic and dangerously bored\, publishes a scandalous response to the pestilence—an epic work about the very things lost to us\, like intimacy\, identity\, and the erotic freedom of touch.His searing poem\, Venus and Adonis\, rips and tears at the founding myth of why human beings are cursed to love each other\, in every form—him and her\, her-as-him\, him-as-her\, love as equal and unequal\, obscenely arousing and utterly destructive.
URL:https://schoolties.com.au/whats-on/venus-and-adonis/
LOCATION:Seymour Centre
CATEGORIES:Drama,History
ATTACH;FMTTYPE=image/png:https://schoolties.com.au/wp-content/uploads/2023/05/venus-and-adonis-1200x630-1.png
END:VEVENT
BEGIN:VEVENT
DTSTART;VALUE=DATE:20230927
DTEND;VALUE=DATE:20231204
DTSTAMP:20260424T064209
CREATED:20230927T033345Z
LAST-MODIFIED:20230927T033416Z
UID:2672-1695772800-1701647999@schoolties.com.au
SUMMARY:Convict Ladies of the Female Factory Exhibition
DESCRIPTION:The convict women who lived and worked in the Parramatta Female Factory are revealed in this exhibition. The Female Factory Story with Reverend Samuel Marsden and his quest for better conditions for the convict women. He performed marriage ceremonies for Parramatta Female Factory women at St John’s church and baptised many of their children. He was influenced by Elizabeth Fry who tirelessly worked for prison reform in England.
URL:https://schoolties.com.au/whats-on/convict-ladies-of-the-female-factory-exhibition/
LOCATION:Hambledon Cottage Museum
ATTACH;FMTTYPE=image/jpeg:https://schoolties.com.au/wp-content/uploads/2023/09/2023-Convict-Ladies-of-the-Female-Factory.jpeg
END:VEVENT
BEGIN:VEVENT
DTSTART;VALUE=DATE:20230918
DTEND;VALUE=DATE:20231015
DTSTAMP:20260424T064209
CREATED:20230502T005320Z
LAST-MODIFIED:20230510T064020Z
UID:1665-1694995200-1697327999@schoolties.com.au
SUMMARY:Is There Something Wrong With That Lady?
DESCRIPTION:Debra Oswald fell in love with theatre aged eleven. But did it love her back? How do you cope with rejection and success and then more rejection? How does a child hypochondriac\, with a blundering romantic history learn to cope with the demands of writing in showbiz? Will the success of OFFSPRING change things or is the writer’s lot one huge stumble from disaster to disaster?\nDebra needs to move on… can the audience help her to decide what to do next?\nDebra Oswald and director Lee Lewis reunite for this infectiously funny\, deeply personal and totally honest exploration of the ups\, downs and in-betweens of being a writer.
URL:https://schoolties.com.au/whats-on/is-there-something-wrong-with-that-lady/
LOCATION:Ensemble Theatre
CATEGORIES:Drama
END:VEVENT
BEGIN:VEVENT
DTSTART;VALUE=DATE:20230915
DTEND;VALUE=DATE:20240205
DTSTAMP:20260424T064209
CREATED:20230614T040344Z
LAST-MODIFIED:20230614T040344Z
UID:2284-1694736000-1707091199@schoolties.com.au
SUMMARY:Tarek Atoui: Waters’ Witness
DESCRIPTION:A sonic landscape and performances based on the hidden sounds of port cities. \nWaters’ Witness is based on Atoui’s ongoing project documenting the acoustic identities of port cities that are deeply connected to their harbours. Recording sounds close to the sea and under the water\, Atoui produces a unique score for each city which becomes part of the work’s growing soundscape and a source of inspiration for new sound sculptures and musical devices. Connecting docks and waterfronts from Athens to Abu Dhabi\, Singapore\, Beirut\, Porto\, Istanbul and now Sydney\, Waters’ Witness is an immersive sonic landscape that is reimagined in a different format for each presentation.
URL:https://schoolties.com.au/whats-on/tarek-atoui-waters-witness/
LOCATION:Museum of Contemporary Art
CATEGORIES:Dance,History,Performing Arts,Visual Arts
ATTACH;FMTTYPE=image/jpeg:https://schoolties.com.au/wp-content/uploads/2023/06/2023-Tarek-Atoui.jpg
END:VEVENT
BEGIN:VEVENT
DTSTART;VALUE=DATE:20230915
DTEND;VALUE=DATE:20231022
DTSTAMP:20260424T064209
CREATED:20230502T005557Z
LAST-MODIFIED:20230510T064139Z
UID:1670-1694736000-1697932799@schoolties.com.au
SUMMARY:Is God Is
DESCRIPTION:A thrilling\, high-powered\, utterly engrossing tale of revenge from an award-winning US playwright.\nVengeance is theirs\nThe recipient of the pre-eminent American Playwriting Foundation’s Relentless Award\, Is God Is tells the vivid and violent story of twin sisters Racine and Anaia and their cross-country odyssey of revenge. They’re on a mission to track down their absent and abusive father to repay him for the brutality of their childhoods\, and they’re not letting anyone get in their way.
URL:https://schoolties.com.au/whats-on/is-god-is/
CATEGORIES:Drama
END:VEVENT
BEGIN:VEVENT
DTSTART;VALUE=DATE:20230915
DTEND;VALUE=DATE:20230925
DTSTAMP:20260424T064209
CREATED:20230801T044155Z
LAST-MODIFIED:20230801T044155Z
UID:2428-1694736000-1695599999@schoolties.com.au
SUMMARY:Sydney Design Week - Amodern
DESCRIPTION:The 27th Sydney Design Week (2023) offers a platform to the critical research\, industries\, infrastructure and technologies that underpin design practice in our city\, inviting plural perspectives from our local communities. \nThe program enlists six fields of enquiry; Eco Systems\, Material Cultures\, Communal Cities\, Micro Cycles\, Connected Threads and Photofields\, to explore the complex and interconnected social and natural ecologies in which contemporary design operates.’
URL:https://schoolties.com.au/whats-on/sydney-design-week-amodern/
LOCATION:Powerhouse Museum
CATEGORIES:Design,Geography,History,HSIE,Science,STEM,Textiles,Visual Arts
ATTACH;FMTTYPE=image/jpeg:https://schoolties.com.au/wp-content/uploads/2023/08/2023-Design-Week.jpg
END:VEVENT
BEGIN:VEVENT
DTSTART;VALUE=DATE:20230914
DTEND;VALUE=DATE:20231016
DTSTAMP:20260424T064209
CREATED:20230502T005436Z
LAST-MODIFIED:20230510T064147Z
UID:1667-1694649600-1697414399@schoolties.com.au
SUMMARY:Lady Day At Emerson's Bar & Grill
DESCRIPTION:It’s 1959\, in a bar in South Philadelphia. It’s a bit rundown. You wouldn’t know it\, but we’re in a moment of history – one of Billie Holiday’s legendary last performances.\nAs she sings her set (and it’s the greats – ‘Taint Nobody’s Business If I Do\, Strange Fruit\, What a Little Moonlight Can Do\, Easy Livin’\, God Bless the Child\, and more) she shares the story of her life – a bit risqué\, humorous\, political\, ecstatic\, tragic. Lady Day comes to the fore as she looks back on a life\, on an era.
URL:https://schoolties.com.au/whats-on/lady-day-at-emersons-bar-grill/
LOCATION:Belvoir St Theatre
CATEGORIES:Drama
ATTACH;FMTTYPE=image/webp:https://schoolties.com.au/wp-content/uploads/2023/05/LadyDay_Belvoir_2023_web-scaled-1911x1280-1-e1683174047115.webp
END:VEVENT
BEGIN:VEVENT
DTSTART;VALUE=DATE:20230911
DTEND;VALUE=DATE:20231015
DTSTAMP:20260424T064209
CREATED:20230502T005244Z
LAST-MODIFIED:20230510T064157Z
UID:1663-1694390400-1697327999@schoolties.com.au
SUMMARY:The Visitors
DESCRIPTION:A new production of this contemporary classic and a riveting insight into one of the most impactful days in Australia’s history.\nVisitors leave. Right?\nOn a sweltering day in January 1788\, seven clan leaders gather on a sandstone escarpment overlooking the harbour. The attendees\, six of them Elders and one new initiate\, catch-up\, laugh together\, share a meal and compare notes. But beyond the friendly banter\, protocols\, and hospitality\, a momentous decision is waiting to be made.\nA mysterious fleet of giant nawi is amassing in the harbour and as they creep closer\, these seven representatives must choose unanimously: whether to send these strangers on their way or welcome them?
URL:https://schoolties.com.au/whats-on/the-visitors/
LOCATION:Sydney Opera House
CATEGORIES:Drama
END:VEVENT
BEGIN:VEVENT
DTSTART;VALUE=DATE:20230908
DTEND;VALUE=DATE:20231009
DTSTAMP:20260424T064209
CREATED:20230712T013722Z
LAST-MODIFIED:20230906T034702Z
UID:2393-1694131200-1696809599@schoolties.com.au
SUMMARY:The 25th Annual Putnam County Spelling Bee
DESCRIPTION:Six spellers enter… but only one speller can leave a champion! At least the losers get a juice box… \nThe 25th Annual Putnam County Spelling Bee is a wildly hilarious take on adolescence\, parenting\, teachers\, and the\nP-A-N-D-E-M-O-N-I-U-M of the world of competitive spelling bees. Centred around a very eclectic group of six mid-pubescent teens\, the show effortlessly weaves its way through the motivations and hopes of each competitor as they vie to take home the spelling championship of a lifetime! But which speller will avoid the soul-crushing ‘ding’ of the bell that signals the end of their time in the competition?
URL:https://schoolties.com.au/whats-on/the-25th-annual-putnam-county-spelling-bee/
LOCATION:Hayes Theatre
CATEGORIES:Drama,English
ATTACH;FMTTYPE=image/jpeg:https://schoolties.com.au/wp-content/uploads/2023/07/2023-Spelling-Bee.jpeg
END:VEVENT
BEGIN:VEVENT
DTSTART;VALUE=DATE:20230908
DTEND;VALUE=DATE:20231015
DTSTAMP:20260424T064209
CREATED:20230502T005052Z
LAST-MODIFIED:20230510T064204Z
UID:1660-1694131200-1697327999@schoolties.com.au
SUMMARY:Summer of Harold
DESCRIPTION:Memories of 1984. London. Phil Collins on MTV. Cassette tapes. Hilary Bell’s new play explores our love for odd things. What is the magic that makes us possessive about objects? Three stories intertwine to take us on a hilarious\, poignant and magical journey.
URL:https://schoolties.com.au/whats-on/summer-of-harold/
LOCATION:Ensemble Theatre
CATEGORIES:Drama
END:VEVENT
BEGIN:VEVENT
DTSTART;VALUE=DATE:20230905
DTEND;VALUE=DATE:20231015
DTSTAMP:20260424T064209
CREATED:20230502T004500Z
LAST-MODIFIED:20230510T064216Z
UID:1653-1693872000-1697327999@schoolties.com.au
SUMMARY:The Importance Of Being Ernest
DESCRIPTION:Hilarious\, naughty and Wilde\nAlgernon Moncrieff and Jack Worthing are two best friends who are both living double lives. In the city they’re playboys with a libertine reputation\, but in the country they assume pious alter egos to get away from it all. Things get sticky when love enters the mix and the men have to keep track of who they’re pretending to be and when. Floating haughtily above it all is the withering Lady Bracknell\, Victorian London’s socialite extraordinaire and the gatekeeper of all things high society.
URL:https://schoolties.com.au/whats-on/the-importance-of-being-ernest/
LOCATION:Roslyn Packer Theatre
CATEGORIES:Drama
ATTACH;FMTTYPE=image/jpeg:https://schoolties.com.au/wp-content/uploads/2023/05/2023_Earnest_Web_Crop_715x430.jpg
END:VEVENT
BEGIN:VEVENT
DTSTART;VALUE=DATE:20230826
DTEND;VALUE=DATE:20240101
DTSTAMP:20260424T064209
CREATED:20230830T051344Z
LAST-MODIFIED:20230830T051825Z
UID:2613-1693008000-1704067199@schoolties.com.au
SUMMARY:1001 Remarkable Objects
DESCRIPTION:1001 Remarkable Objects presents an unexpected juxtaposition of objects in 25 rooms that lead us on a journey across time and memory. The selection includes objects that have never been exhibited until now alongside much loved Powerhouse Collection icons.
URL:https://schoolties.com.au/whats-on/1001-remarkable-objects/
LOCATION:Powerhouse Museum
CATEGORIES:Design,HSIE,Science,STEM,Visual Arts
ATTACH;FMTTYPE=image/webp:https://schoolties.com.au/wp-content/uploads/2023/08/2023-Remarkable-Objects.webp
END:VEVENT
BEGIN:VEVENT
DTSTART;VALUE=DATE:20230826
DTEND;VALUE=DATE:20231002
DTSTAMP:20260424T064209
CREATED:20230510T042038Z
LAST-MODIFIED:20230510T064232Z
UID:1894-1693008000-1696204799@schoolties.com.au
SUMMARY:The Dismissal
DESCRIPTION:Newly deposed Prime Minister Gough Whitlam descends the steps of Parliament House to rage against his dismissal by Governor-General Sir John Kerr\, who has replaced him with the opposition leader\, Malcolm Fraser. A scoop of reporters throng toward him—chief among them Gold Logie-winner\, beloved larrikin\, and Wollongong’s favourite son: Norman Gunston.
URL:https://schoolties.com.au/whats-on/the-dismissal/
LOCATION:Seymour Centre
CATEGORIES:Drama,History,Legal Studies
END:VEVENT
BEGIN:VEVENT
DTSTART;VALUE=DATE:20230825
DTEND;VALUE=DATE:20231211
DTSTAMP:20260424T064209
CREATED:20230510T054217Z
LAST-MODIFIED:20230809T012553Z
UID:1919-1692921600-1702252799@schoolties.com.au
SUMMARY:WICKED
DESCRIPTION:The Broadway sensation WICKED looks at what happened in the Land of Oz… but from a different angle. Long before Dorothy arrives\, there is another young woman\, born with emerald-green skin\, who is smart\, fiery\, misunderstood and possessing an extraordinary talent. When she meets a bubbly blonde who is exceptionally popular\, their initial rivalry turns into the unlikeliest of friendships… until the world decides to call one “good\,” and the other one “wicked.”
URL:https://schoolties.com.au/whats-on/wicked/
LOCATION:Sydney Lyric Theatre
CATEGORIES:Dance,Musicals,Performing Arts
ATTACH;FMTTYPE=image/jpeg:https://schoolties.com.au/wp-content/uploads/2023/05/2023-Wicked.jpg
END:VEVENT
BEGIN:VEVENT
DTSTART;VALUE=DATE:20230817
DTEND;VALUE=DATE:20231014
DTSTAMP:20260424T064209
CREATED:20230502T004236Z
LAST-MODIFIED:20230510T064321Z
UID:1650-1692230400-1697241599@schoolties.com.au
SUMMARY:Miss Saigon
DESCRIPTION:Miss Saigon tells the story of Chris\, an American male GI\, who falls in love with Kim\, a young Vietnamese orphan who works as a bar-girl and prostitute. When the city falls\, the lovers are separated and Chris eventually returns to the U.S. Years later\, Chris returns to Bangkok with his American wife\, Ellen.
URL:https://schoolties.com.au/whats-on/miss-saigon/
LOCATION:Sydney Opera House
CATEGORIES:History,HSIE,Musicals,Performing Arts
ATTACH;FMTTYPE=image/jpeg:https://schoolties.com.au/wp-content/uploads/2023/05/Miss-Saigon-Ticket-in-Sydney-Opera-House.jpg
END:VEVENT
BEGIN:VEVENT
DTSTART;VALUE=DATE:20230812
DTEND;VALUE=DATE:20231106
DTSTAMP:20260424T064209
CREATED:20230607T052301Z
LAST-MODIFIED:20230607T052301Z
UID:2236-1691798400-1699228799@schoolties.com.au
SUMMARY:Atmospheric Memory
DESCRIPTION:Inspired by computing pioneer Charles Babbage’s proposal that the air is a ‘vast library’ storing every word ever spoken\, Rafael Lozano-Hemmer’s breathtaking immersive art environment invites audiences to celebrate the turbulence and tumult of the atmosphere: invisible but precious\, filled with voices and history. \nIf we could ‘rewind’ air molecules to recreate all voices of the past\, whose voice would you want to hear?
URL:https://schoolties.com.au/whats-on/atmospheric-memory/
LOCATION:Powerhouse Museum
CATEGORIES:Geography,Science,STEM
ATTACH;FMTTYPE=image/jpeg:https://schoolties.com.au/wp-content/uploads/2023/06/Atmospheric-Memory.jpg
END:VEVENT
BEGIN:VEVENT
DTSTART;VALUE=DATE:20230812
DTEND;VALUE=DATE:20230821
DTSTAMP:20260424T064209
CREATED:20230510T051420Z
LAST-MODIFIED:20230510T072921Z
UID:1908-1691798400-1692575999@schoolties.com.au
SUMMARY:Sydney Science Trail
DESCRIPTION:The Australian Museum and the Royal Botanic Garden Sydney celebrates National Science Week with a jam-packed program\, featuring talks by scientists\, science shows\, interactive workshops and the ever-popular science Expo.
URL:https://schoolties.com.au/whats-on/sydney-science-trail/
LOCATION:Australian Museum & Royal Botanic Garden
CATEGORIES:Science
ATTACH;FMTTYPE=image/jpeg:https://schoolties.com.au/wp-content/uploads/2023/05/Sydney-Science-Week.jpg
END:VEVENT
BEGIN:VEVENT
DTSTART;VALUE=DATE:20230811
DTEND;VALUE=DATE:20231106
DTSTAMP:20260424T064209
CREATED:20230614T034034Z
LAST-MODIFIED:20230614T034034Z
UID:2279-1691712000-1699228799@schoolties.com.au
SUMMARY:Zoe Leonard: Al río / To the River
DESCRIPTION:Al río / To the River is a large-scale photographic project that depicts the river\, Río Bravo/Rio Grande\, which is used to demarcate the international boundary between Mexico and the United States. Since 2016\, Leonard has photographed along the 2\,000-km stretch of river that acts as the border between the two countries\, mapping the river’s journey through the cities of Ciudad Juárez\, Mexico and El Paso\, Texas\, and onto the Gulf of Mexico. Comprising of hundreds of images\, Leonard’s nuanced and complex portrait of the river reflects its broader role as a site of agriculture\, commerce\, culture\, policing and surveillance.
URL:https://schoolties.com.au/whats-on/zoe-leonard-al-rio-to-the-river/
LOCATION:Museum of Contemporary Art
CATEGORIES:Geography,History,Visual Arts
ATTACH;FMTTYPE=image/jpeg:https://schoolties.com.au/wp-content/uploads/2023/06/2023-Zoe-Leonard.jpg
END:VEVENT
BEGIN:VEVENT
DTSTART;VALUE=DATE:20230805
DTEND;VALUE=DATE:20230904
DTSTAMP:20260424T064209
CREATED:20230510T041857Z
LAST-MODIFIED:20230510T064335Z
UID:1892-1691193600-1693785599@schoolties.com.au
SUMMARY:The Weekend
DESCRIPTION:A sophisticated new adaptation of Charlotte Wood’s bestselling novel of friendship and the wisdom of age. \n“People went on about death bringing friends together\, but it wasn’t true…” \nFour women have known each other for decades\, and have a friendship that goes with it – good-humoured\, caring\, and forthright when required. But Sylvie has died\, and when the remaining three come together to pack up her beach house\, they find maybe they haven’t been as honest – or as good friends – as they thought. \nAdele\, a once-well-known actress\, Wendy\, a high-profile academic\, and Jude\, who ran one of the city’s most celebrated restaurants\, learn things they should have learned years ago. There’s a difference between growing old\, and growing wise. \nAnd at the heart of it all\, an old dog keeps them company\, silently bearing witness to the folly of age\, and the warmth of true friendship.
URL:https://schoolties.com.au/whats-on/the-weekend/
LOCATION:Belvoir St Theatre
CATEGORIES:Drama
END:VEVENT
BEGIN:VEVENT
DTSTART;VALUE=DATE:20230802
DTEND;VALUE=DATE:20230819
DTSTAMP:20260424T064209
CREATED:20230510T041733Z
LAST-MODIFIED:20230510T064354Z
UID:1889-1690934400-1692403199@schoolties.com.au
SUMMARY:Romeo and Juliet
DESCRIPTION:Our production takes on the spirit of a filthy Italian opera\, driven by love and heat\, fights and fevers of the mind\, and of course\, by Shakespeare’s soaring poetry. We are carried to backcountry Verona\, a profoundly insular town\, trapped in cycles of tradition and vendetta\, staring out at the future with moral pollution at its heart. Only its children’s courage to express themselves will bring change. With the mad blood stirring\, two young lovers meet and set in motion the most iconic love story of all time\, that of Juliet and her Romeo.
URL:https://schoolties.com.au/whats-on/1889/
LOCATION:Seymour Centre
CATEGORIES:Drama,English
END:VEVENT
BEGIN:VEVENT
DTSTART;VALUE=DATE:20230729
DTEND;VALUE=DATE:20230911
DTSTAMP:20260424T064209
CREATED:20230726T040424Z
LAST-MODIFIED:20230726T040424Z
UID:2420-1690588800-1694390399@schoolties.com.au
SUMMARY:Kaleidoscope
DESCRIPTION:Kaleidoscope is his breathtaking new interactive mirror maze and promises an experience of mirrors and light\, where reality blurs and imagination soars.
URL:https://schoolties.com.au/whats-on/kaleidoscope/
LOCATION:Powerhouse Museum
CATEGORIES:Design,Science,Visual Arts
ATTACH;FMTTYPE=image/jpeg:https://schoolties.com.au/wp-content/uploads/2023/07/2023-Kaleidoscope.jpg
END:VEVENT
BEGIN:VEVENT
DTSTART;VALUE=DATE:20230729
DTEND;VALUE=DATE:20230903
DTSTAMP:20260424T064209
CREATED:20230510T041542Z
LAST-MODIFIED:20230510T064409Z
UID:1887-1690588800-1693699199@schoolties.com.au
SUMMARY:Constellations
DESCRIPTION:A gloriously romantic love story that reflects on the power of human connection and asks\, “what if?”.\nA date with destiny\nWhat if you could relive the most important moments in your life\, over and over\, to see how things could have turned out differently?\nThis is the question at the heart of Constellations.
URL:https://schoolties.com.au/whats-on/constellations/
LOCATION:Wharf 1 Theatre
CATEGORIES:Drama
END:VEVENT
END:VCALENDAR