BEGIN:VCALENDAR
VERSION:2.0
PRODID:-//School TIES - ECPv6.15.20//NONSGML v1.0//EN
CALSCALE:GREGORIAN
METHOD:PUBLISH
X-ORIGINAL-URL:https://schoolties.com.au
X-WR-CALDESC:Events for School TIES
REFRESH-INTERVAL;VALUE=DURATION:PT1H
X-Robots-Tag:noindex
X-PUBLISHED-TTL:PT1H
BEGIN:VTIMEZONE
TZID:Australia/Sydney
BEGIN:STANDARD
TZOFFSETFROM:+1100
TZOFFSETTO:+1000
TZNAME:AEST
DTSTART:20250405T160000
END:STANDARD
BEGIN:DAYLIGHT
TZOFFSETFROM:+1000
TZOFFSETTO:+1100
TZNAME:AEDT
DTSTART:20251004T160000
END:DAYLIGHT
BEGIN:STANDARD
TZOFFSETFROM:+1100
TZOFFSETTO:+1000
TZNAME:AEST
DTSTART:20260404T160000
END:STANDARD
BEGIN:DAYLIGHT
TZOFFSETFROM:+1000
TZOFFSETTO:+1100
TZNAME:AEDT
DTSTART:20261003T160000
END:DAYLIGHT
BEGIN:STANDARD
TZOFFSETFROM:+1100
TZOFFSETTO:+1000
TZNAME:AEST
DTSTART:20270403T160000
END:STANDARD
BEGIN:DAYLIGHT
TZOFFSETFROM:+1000
TZOFFSETTO:+1100
TZNAME:AEDT
DTSTART:20271002T160000
END:DAYLIGHT
END:VTIMEZONE
BEGIN:VEVENT
DTSTART;VALUE=DATE:20260819
DTEND;VALUE=DATE:20260829
DTSTAMP:20260421T084858
CREATED:20251105T022113Z
LAST-MODIFIED:20251105T022305Z
UID:3496-1787097600-1787961599@schoolties.com.au
SUMMARY:Prometheus - A World Premiere
DESCRIPTION:Unleashing the Future’s Fire\nIgnite your students’ creativity with the world premiere of Prometheus\, a thrilling new work by Sport for Jove\, commissioned by the NSW Department of Education. Written especially for Drama students across NSW\, this immersive and contemporary production offers a unique opportunity to see the play brought to life by professional actors. \nPerfect for Years 7 – 11\, Prometheus reimagines the ancient myth through the lens of the AI revolution—exploring the moral dilemmas\, creative risks\, and consequences of building machines that can think for themselves. What happens when humanity steals fire from the gods again—this time in the form of artificial intelligence? \nWritten and directed by Damien Ryan\, the play is theatrical\, thought-provoking\, and designed to be performed in the classroom by student casts ranging from six to thirty students. It invites adaptation\, personal interpretation\, and discussion\, making it an ideal foundation for exploring ensemble work\, contemporary themes\, and dramatic structure. \nDon’t miss this chance to experience Prometheus live on stage\, where myth meets machine and the future is set ablaze.
URL:https://schoolties.com.au/whats-on/prometheus-a-world-premiere/
LOCATION:Seymour Centre
CATEGORIES:Drama,English,Performing Arts
ATTACH;FMTTYPE=image/jpeg:https://schoolties.com.au/wp-content/uploads/2025/11/2026-Prometheus-min.jpg
END:VEVENT
BEGIN:VEVENT
DTSTART;VALUE=DATE:20260905
DTEND;VALUE=DATE:20261018
DTSTAMP:20260421T084858
CREATED:20260401T043104Z
LAST-MODIFIED:20260401T043117Z
UID:3539-1788566400-1792281599@schoolties.com.au
SUMMARY:Housework
DESCRIPTION:A whip-smart and gaspingly funny sprint through the corridors of power \nSex scandals\, culture wars\, motherhood and Machiavellian manipulation – it’s all in a day’s work inside the House. \nPlaywright Emily Steel and director Shannon Rush pull back the curtain on the real Parliament House in this bold\, black comedy hailed an “undeniably Australian and gloriously uncompromising” (The Conversation) future classic. \nBrought to brilliant life by some of Australia’s most beloved comic actors\, Housework follows a group of political dynamos through the backstabbing and backroom deals of a high- stakes sitting week in Canberra\, whilst balancing family crises just as frantic.
URL:https://schoolties.com.au/whats-on/housework/
LOCATION:Drama Theatre
CATEGORIES:Drama,English,Performing Arts
ATTACH;FMTTYPE=image/jpeg:https://schoolties.com.au/wp-content/uploads/2026/04/2026-Housework.jpg
END:VEVENT
BEGIN:VEVENT
DTSTART;VALUE=DATE:20260912
DTEND;VALUE=DATE:20261026
DTSTAMP:20260421T084858
CREATED:20260401T040517Z
LAST-MODIFIED:20260401T040804Z
UID:3524-1789171200-1792972799@schoolties.com.au
SUMMARY:My Fair Lady
DESCRIPTION:Lerner and Loewe’s My Fair Lady comes to Sydney Opera House to celebrate 70 years since its glorious Broadway debut. \nThis lavish recreation is based on the 2016 Australian production directed by Julie Andrews\, who was catapulted into stardom when she originated the role of Eliza Doolittle\, an irrepressible Cockney flower girl who transforms into a lady of society. \nA heartwarming story of identity and change\, My Fair Lady brims with razor sharp wit\, unforgettable characters\, and a stunning score including ‘Wouldn’t It Be Loverly?’\, ‘I Could Have Danced All Night’ and ‘Get Me to the Church on Time’. \nFrom its groundbreaking Broadway debut to the iconic Oscar winning film\, My Fair Lady remains one of the world’s most enduring and loved musical treasures.
URL:https://schoolties.com.au/whats-on/my-fair-lady/
LOCATION:Joan Sutherland Theatre
CATEGORIES:Dance,Design,Drama,English,Music,Musicals,Performing Arts
ATTACH;FMTTYPE=image/jpeg:https://schoolties.com.au/wp-content/uploads/2026/04/2026-My-Fair-Lady.jpg
END:VEVENT
BEGIN:VEVENT
DTSTART;VALUE=DATE:20261022
DTEND;VALUE=DATE:20261206
DTSTAMP:20260421T084858
CREATED:20260401T043630Z
LAST-MODIFIED:20260401T043630Z
UID:3542-1792627200-1796515199@schoolties.com.au
SUMMARY:Strong is the New Pretty
DESCRIPTION:“Kick it to me!” \nThe celebrated Australian playwright behind sell-out smash hit RBG: Of Many\, One and international phenomenon Prima Facie\, Suzie Miller turns her extraordinary talents to the formation of the AFLW in this world premiere. \nIn 2010\, an official report into the state of Australian Rules Football recommended the creation of a national women’s league. Seven years and a whole lot of grit\, passion and fancy footwork later\, the AFLW was born. This is the untold story of how the league went from a pipe dream to a sensation the sports world could no longer ignore. \nWith her gift for docudrama and trademark insight and warmth\, Miller reunites with the director behind the original Prima Facie: Lee Lewis. Now fielding a brilliant lineup of eight players including Lucy Bell\, Amy Ingram and Tara Morice\, this dream team writes a love letter to a game and a community. \nIt’s theatre written in mud\, sweat\, and belief. It’s not just about a sport. It’s about a revolution.
URL:https://schoolties.com.au/whats-on/strong-is-the-new-pretty/
LOCATION:Drama Theatre
CATEGORIES:Drama,English,Performing Arts
ATTACH;FMTTYPE=image/jpeg:https://schoolties.com.au/wp-content/uploads/2026/04/2026-Strong-Is-The-New-Pretty.jpg
END:VEVENT
BEGIN:VEVENT
DTSTART;VALUE=DATE:20261106
DTEND;VALUE=DATE:20261122
DTSTAMP:20260421T084858
CREATED:20260401T044357Z
LAST-MODIFIED:20260401T044357Z
UID:3545-1793923200-1795305599@schoolties.com.au
SUMMARY:Copland Dance Episodes
DESCRIPTION:In a stunning explosion of colour and music\, The Australian Ballet presents the Australian Premiere of Copland Dance Episodes by New York City Ballet Resident Choreographer Justin Peck. \nBrightening the stage with its joyful energy and exciting choreography\, Copland Dance Episodes is a joyful celebration of art and artistry. Thirty dancers perform across 22 episodes set to Aaron Copland’s vivid music in this unmissable modern ballet that honours the art form while exploring its exciting new frontiers. \nA remarkable technical feat and challenge for the artists\, Copland Dance Episodes embraces the uninhibited freedom of dance to leave you amazed\, inspired and with a heart full of joy.
URL:https://schoolties.com.au/whats-on/copland-dance-episodes/
LOCATION:Joan Sutherland Theatre
CATEGORIES:Dance,Drama,Performing Arts
ATTACH;FMTTYPE=image/jpeg:https://schoolties.com.au/wp-content/uploads/2026/04/2026-Copeland-Dance-Episodes.jpg
END:VEVENT
BEGIN:VEVENT
DTSTART;VALUE=DATE:20261112
DTEND;VALUE=DATE:20261115
DTSTAMP:20260421T084858
CREATED:20251105T022522Z
LAST-MODIFIED:20251105T022539Z
UID:3500-1794441600-1794700799@schoolties.com.au
SUMMARY:Young Refugee
DESCRIPTION:Experience the powerful narratives of child refugees\, now teenagers\, as they bravely share their real-life journeys of escaping war and persecution to start anew in Australia. This poignant performance marks the culmination of 13 weeks of group counselling and trauma recovery\, empowering participants to find their voices in a safe and supportive environment. \nYoung Refugee invites audiences to engage and connect with the refugee experience\, fostering empathy and understanding. Suitable for ages 12 and up\, including families\, educators and community workers alike. \nEnhance your professional development while supporting these remarkable young individuals as they express their resilience and hope.
URL:https://schoolties.com.au/whats-on/young-refugee/
LOCATION:Seymour Centre
CATEGORIES:Drama,English,History,HSIE,Performing Arts
ATTACH;FMTTYPE=image/jpeg:https://schoolties.com.au/wp-content/uploads/2025/11/2026-Young-Refugees-min.jpg
END:VEVENT
BEGIN:VEVENT
DTSTART;VALUE=DATE:20261118
DTEND;VALUE=DATE:20261207
DTSTAMP:20260421T084858
CREATED:20260401T044821Z
LAST-MODIFIED:20260401T044821Z
UID:3548-1794960000-1796601599@schoolties.com.au
SUMMARY:Macbeth
DESCRIPTION:Shakespeare’s most haunting thriller \nShakespeare’s most haunting thriller follows the story of Macbeth\, a Scottish general\, famed for his exploits on the battlefield. Following a bloody battle\, Macbeth and his comrade Banquo are met by three Weird Sisters who prophesy Macbeth will one day be king. \nUnable to shake the thought\, Macbeth tells his wife\, Lady Macbeth. Driven by an insatiable hunger for power\, posterity and certainty\, they commit a murder and set in motion the unravelling of their sanity. With blood on their hands\, they face the dire consequences of their despicable actions.
URL:https://schoolties.com.au/whats-on/macbeth-2/
LOCATION:Playhouse Theatre
CATEGORIES:Drama,English,Performing Arts
ATTACH;FMTTYPE=image/jpeg:https://schoolties.com.au/wp-content/uploads/2026/04/2026-Macbeth.jpg
END:VEVENT
BEGIN:VEVENT
DTSTART;VALUE=DATE:20261128
DTEND;VALUE=DATE:20261217
DTSTAMP:20260421T084858
CREATED:20260401T041346Z
LAST-MODIFIED:20260401T041346Z
UID:3529-1795824000-1797465599@schoolties.com.au
SUMMARY:The Nutcracker
DESCRIPTION:The Australian Ballet return with the beloved festive ballet The Nutcracker. Sir Peter Wright’s magical production remains faithful to the 19th-century original and will fill audiences with the Christmas spirit. \nTchaikovsky’s last ballet score\, with its famous motifs and melodies\, draws viewers into the story of Clara\, a young ballet student celebrating with her family on Christmas Eve. World-renowned designer John F. Macfarlane exquisitely evokes the world of this picture-perfect ballet: whirling snowflakes\, crackling fires\, bandbox soldiers\, a Christmas tree that grows until it brushes the ceiling\, and a Sugar Plum Fairy in luscious candy-floss pink.
URL:https://schoolties.com.au/whats-on/the-nutcracker/
LOCATION:Joan Sutherland Theatre
CATEGORIES:Dance,Drama,Performing Arts,Textiles
ATTACH;FMTTYPE=image/jpeg:https://schoolties.com.au/wp-content/uploads/2026/04/2026-The-Nutcracker.jpg
END:VEVENT
END:VCALENDAR