BEGIN:VCALENDAR
VERSION:2.0
PRODID:-//School TIES - ECPv6.15.20//NONSGML v1.0//EN
CALSCALE:GREGORIAN
METHOD:PUBLISH
X-WR-CALNAME:School TIES
X-ORIGINAL-URL:https://schoolties.com.au
X-WR-CALDESC:Events for School TIES
REFRESH-INTERVAL;VALUE=DURATION:PT1H
X-Robots-Tag:noindex
X-PUBLISHED-TTL:PT1H
BEGIN:VTIMEZONE
TZID:Australia/Sydney
BEGIN:STANDARD
TZOFFSETFROM:+1100
TZOFFSETTO:+1000
TZNAME:AEST
DTSTART:20220402T160000
END:STANDARD
BEGIN:DAYLIGHT
TZOFFSETFROM:+1000
TZOFFSETTO:+1100
TZNAME:AEDT
DTSTART:20221001T160000
END:DAYLIGHT
BEGIN:STANDARD
TZOFFSETFROM:+1100
TZOFFSETTO:+1000
TZNAME:AEST
DTSTART:20230401T160000
END:STANDARD
BEGIN:DAYLIGHT
TZOFFSETFROM:+1000
TZOFFSETTO:+1100
TZNAME:AEDT
DTSTART:20230930T160000
END:DAYLIGHT
BEGIN:STANDARD
TZOFFSETFROM:+1100
TZOFFSETTO:+1000
TZNAME:AEST
DTSTART:20240406T160000
END:STANDARD
BEGIN:DAYLIGHT
TZOFFSETFROM:+1000
TZOFFSETTO:+1100
TZNAME:AEDT
DTSTART:20241005T160000
END:DAYLIGHT
BEGIN:STANDARD
TZOFFSETFROM:+1100
TZOFFSETTO:+1000
TZNAME:AEST
DTSTART:20250405T160000
END:STANDARD
BEGIN:DAYLIGHT
TZOFFSETFROM:+1000
TZOFFSETTO:+1100
TZNAME:AEDT
DTSTART:20251004T160000
END:DAYLIGHT
END:VTIMEZONE
BEGIN:VEVENT
DTSTART;VALUE=DATE:20240221
DTEND;VALUE=DATE:20240325
DTSTAMP:20260423T053541
CREATED:20231018T035741Z
LAST-MODIFIED:20231128T235000Z
UID:2783-1708473600-1711324799@schoolties.com.au
SUMMARY:The Lehman Trilogy
DESCRIPTION:The Lehman Trilogy features a cast of three playing the Lehman brothers\, their sons and grandsons\, in an extraordinary feat of storytelling told in three parts on a single evening. The Lehman Trilogy is the story of a family and a company that changed the world. \nOn a cold September morning in 1844\, a young man from Bavaria stands on a New York dockside dreaming of a new life in the new world. He is joined by his two brothers\, and an American epic begins. 163 years later\, the firm they establish – Lehman Brothers – spectacularly collapses into bankruptcy\, triggering the largest financial crisis in history.
URL:https://schoolties.com.au/whats-on/the-lehman-trilogy/
LOCATION:Theatre Royal
CATEGORIES:Drama,History,Legal Studies,Performing Arts
ATTACH;FMTTYPE=image/png:https://schoolties.com.au/wp-content/uploads/2023/10/2024-The-Lehman-Trilogy-min.png
END:VEVENT
BEGIN:VEVENT
DTSTART;VALUE=DATE:20240220
DTEND;VALUE=DATE:20240306
DTSTAMP:20260423T053541
CREATED:20230913T041752Z
LAST-MODIFIED:20230913T041752Z
UID:2656-1708387200-1709683199@schoolties.com.au
SUMMARY:Alice's Adventures in Wonderland
DESCRIPTION:Alice’s Adventures in Wonderland © returns to take audiences back down the rabbit hole in February 2024. Translated from Lewis Carroll’s beloved book\, Alice brings the eccentricities of the original story to the ballet stage in a tale suitable for the whole family. Watch as The Queen of Hearts rampages around her court\, the White Rabbit shimmies his tail and the Caterpillar sparkles in 16 crystal-covered pointe shoes.
URL:https://schoolties.com.au/whats-on/alices-adventures-in-wonderland/
LOCATION:Capitol Theatre
CATEGORIES:Dance,Drama,Musicals,Performing Arts
ATTACH;FMTTYPE=image/jpeg:https://schoolties.com.au/wp-content/uploads/2023/09/2024-Alice-in-Wonderland.jpg
END:VEVENT
BEGIN:VEVENT
DTSTART;VALUE=DATE:20240215
DTEND;VALUE=DATE:20240217
DTSTAMP:20260423T053541
CREATED:20231004T041257Z
LAST-MODIFIED:20231004T041257Z
UID:2765-1707955200-1708127999@schoolties.com.au
SUMMARY:HSC - Callback
DESCRIPTION:The annual showcase of exemplary performances and compositions by HSC students of dance. \nCallback is an unforgettable experience that highlights the importance of fostering and supporting creativity in our youth.
URL:https://schoolties.com.au/whats-on/hsc-callback/
LOCATION:Seymour Centre
CATEGORIES:Dance,Drama,Musicals,Performing Arts
ATTACH;FMTTYPE=image/png:https://schoolties.com.au/wp-content/uploads/2023/10/2024-Callback.png
END:VEVENT
BEGIN:VEVENT
DTSTART;VALUE=DATE:20240212
DTEND;VALUE=DATE:20240216
DTSTAMP:20260423T053541
CREATED:20231101T021925Z
LAST-MODIFIED:20231101T021925Z
UID:2809-1707696000-1708041599@schoolties.com.au
SUMMARY:Introduction To Devising Theatre For HSC Group Performance
DESCRIPTION:One week of intensive workshops devised as a structured introduction to the devising process for HSC group performance.\nStudents will cover four key areas:\n• Operating as an ensemble\n• Celebrating your skill set and embracing improvisation\n• Making meaning using the elements of drama\n• Forming a structure (using the “big six” as a basic structure)\nThe workshop will end with a miniature group devising activityusing exercises from the day\, followed by a showing\,\ndiscussion\, and question time.
URL:https://schoolties.com.au/whats-on/introduction-to-devising-theatre-for-hsc-group-performance/
LOCATION:Seymour Centre
CATEGORIES:Dance,Drama,Musicals,Performing Arts
END:VEVENT
BEGIN:VEVENT
DTSTART;VALUE=DATE:20240210
DTEND;VALUE=DATE:20240217
DTSTAMP:20260423T053541
CREATED:20231004T041604Z
LAST-MODIFIED:20231004T041604Z
UID:2768-1707523200-1708127999@schoolties.com.au
SUMMARY:HSC - OnSTAGE
DESCRIPTION:OnSTAGE is a presentation of exemplary performances and projects by HSC Drama students.
URL:https://schoolties.com.au/whats-on/hsc-onstage/
LOCATION:Seymour Centre
CATEGORIES:Dance,Drama,Music,Musicals,Performing Arts
ATTACH;FMTTYPE=image/png:https://schoolties.com.au/wp-content/uploads/2023/10/2024-OnSTAGE.png
END:VEVENT
BEGIN:VEVENT
DTSTART;VALUE=DATE:20240209
DTEND;VALUE=DATE:20240324
DTSTAMP:20260423T053541
CREATED:20230927T042002Z
LAST-MODIFIED:20230927T042002Z
UID:2709-1707436800-1711238399@schoolties.com.au
SUMMARY:RBG: Of Many\, One
DESCRIPTION:The second woman to be appointed to the US Supreme Court\, Ruth Bader Ginsburg was both a trailblazer in the American judiciary and a fierce advocate for gender equality and reproductive rights. Now\, her life is brought to the stage by the extraordinary pen of Olivier Award-winning Australian playwright Suzie Miller (Prima Facie)\, in a story that chronicles Ginsburg’s wins and dissents\, traces her steps forward and the steps back\, and brings you right into the room with Ruth at the most pivotal moments of her life.
URL:https://schoolties.com.au/whats-on/rbg-of-many-one/
LOCATION:Sydney Opera House
CATEGORIES:Drama,English,Legal Studies,Performing Arts
ATTACH;FMTTYPE=image/jpeg:https://schoolties.com.au/wp-content/uploads/2023/09/2024-RBG-Of-Many-One.jpg
END:VEVENT
BEGIN:VEVENT
DTSTART;VALUE=DATE:20240206
DTEND;VALUE=DATE:20240318
DTSTAMP:20260423T053541
CREATED:20230927T041719Z
LAST-MODIFIED:20230927T041719Z
UID:2706-1707177600-1710719999@schoolties.com.au
SUMMARY:A Fool In Love
DESCRIPTION:In the well-heeled seaside town of Illescas\, the beautiful Octavio sisters – the smart and social climbing Vanessa (Kahraman) and the lovable and\, perhaps\, not-so-smart Phynayah (Treffone) – are desperate to save their family from financial ruin. In order to inherit her eccentric uncle’s fortune\, Phynayah must get engaged before she turns 30. The catch? These days\, suitors don’t just want beauty\, they expect brains as well.
URL:https://schoolties.com.au/whats-on/a-fool-in-love/
LOCATION:Wharf 1 Theatre
CATEGORIES:Drama,Performing Arts
ATTACH;FMTTYPE=image/jpeg:https://schoolties.com.au/wp-content/uploads/2023/09/2024-A-Fool-in-Love.jpg
END:VEVENT
BEGIN:VEVENT
DTSTART;VALUE=DATE:20240201
DTEND;VALUE=DATE:20240304
DTSTAMP:20260423T053541
CREATED:20230913T032600Z
LAST-MODIFIED:20230913T035616Z
UID:2626-1706745600-1709510399@schoolties.com.au
SUMMARY:Tiny Beautiful Things
DESCRIPTION:Cheryl Strayed is many things; mother\, daughter\, writer\, ex-heroin user and\, to make ends meet\, an online advice columnist called Sugar. \nIn the chaos of home\, she receives emails from strangers needing help navigating the contradictions of life. Sugar replies with candour\, offering her own tough\, sweet brand of unadulterated advice which offers healing – and maybe even a few little revolutions. What would you tell someone who is unsure about role-playing as a sexy Santa? Or wants their parents to stop putting each other down? Or the father who feels as dead as his lost son?
URL:https://schoolties.com.au/whats-on/tiny-beautiful-things/
LOCATION:Belvoir St Theatre
CATEGORIES:Drama,English,Performing Arts
ATTACH;FMTTYPE=image/webp:https://schoolties.com.au/wp-content/uploads/2023/09/2024-Tiny-Beautiful-Things.webp
END:VEVENT
BEGIN:VEVENT
DTSTART;VALUE=DATE:20240125
DTEND;VALUE=DATE:20240303
DTSTAMP:20260423T053541
CREATED:20230816T032302Z
LAST-MODIFIED:20230816T032302Z
UID:2569-1706140800-1709423999@schoolties.com.au
SUMMARY:Alone It Stands
DESCRIPTION:Sports fans and theatre fans alike will love this mad-cap David and Goliath tale about the ultimate underdogs. \nOctober 31st 1978. Thomond Park\, Limerick. Cheers and jeers echo through the crowd as the all-amateur Munster rugby team ready for battle against the best team in the world\, the legendary All Blacks. Nobody thought they could go the distance — but the scrappy Irish lads walked off the pitch with a 12-0 victory. \nThe game was never televised\, but the myth of this historic skirmish lives on in John Breen’s fast and funny play tackling the stories of those whose lives were touched by the unexpected win. A talented team of performers cheer\, scrum and charge through 62 characters\, bringing to life both teams\, the fans and even animals!
URL:https://schoolties.com.au/whats-on/alone-it-stands/
LOCATION:Ensemble Theatre
CATEGORIES:Drama,Performing Arts
ATTACH;FMTTYPE=image/webp:https://schoolties.com.au/wp-content/uploads/2023/08/2023-Alone-It-Stands.webp
END:VEVENT
BEGIN:VEVENT
DTSTART;VALUE=DATE:20231122
DTEND;VALUE=DATE:20231221
DTSTAMP:20260423T053541
CREATED:20230823T033657Z
LAST-MODIFIED:20230823T033657Z
UID:2610-1700611200-1703116799@schoolties.com.au
SUMMARY:If / Then
DESCRIPTION:If/Then simultaneously follows one woman’s two possible life paths\, painting a deeply moving portrait of the lives that we lead\, as well as the lives that we might have led. \nThink Sliding Doors the musical!
URL:https://schoolties.com.au/whats-on/if-then/
LOCATION:Hayes Theatre
CATEGORIES:Drama,Performing Arts
ATTACH;FMTTYPE=image/png:https://schoolties.com.au/wp-content/uploads/2023/08/2023-If-Then.png
END:VEVENT
BEGIN:VEVENT
DTSTART;VALUE=DATE:20231108
DTEND;VALUE=DATE:20231211
DTSTAMP:20260423T053541
CREATED:20230726T023634Z
LAST-MODIFIED:20230726T023658Z
UID:2411-1699401600-1702252799@schoolties.com.au
SUMMARY:The Wharf Revue:  Pride in Prejudice
DESCRIPTION:The Wharf Revue is back for another year of sensational value! Satirical content is up by 7%\, the average laughter quotient is indexed at 8.3% over the forward estimates but the Wharf Revue defies the cost-of-living pressure by keeping the ticket price at the same level as last year! Take that\, Phillip Lowe!
URL:https://schoolties.com.au/whats-on/the-wharf-revue-pride-in-prejudice/
LOCATION:Seymour Centre
CATEGORIES:Drama,English,Legal Studies,Performing Arts
ATTACH;FMTTYPE=image/jpeg:https://schoolties.com.au/wp-content/uploads/2023/07/2023-Wharf-Review-Pride-in-Prejudice.jpg
END:VEVENT
BEGIN:VEVENT
DTSTART;VALUE=DATE:20231101
DTEND;VALUE=DATE:20231113
DTSTAMP:20260423T053541
CREATED:20230502T010749Z
LAST-MODIFIED:20230510T063631Z
UID:1685-1698796800-1699833599@schoolties.com.au
SUMMARY:Up Close: Somos
DESCRIPTION:Our first season of Up Close presents Somos\, a new world premiere by Rafael Bonachela. Meaning “we are” in Spanish\, this new work will feature a cascade of intimate solos\, duets and trios with a distinct Latin flavour.
URL:https://schoolties.com.au/whats-on/up-close-somos/
LOCATION:Neilson Studio at Sydney Dance Company
CATEGORIES:Dance,Performing Arts
ATTACH;FMTTYPE=image/jpeg:https://schoolties.com.au/wp-content/uploads/2023/05/SDC_SOMOS_0545_web_byPedroGreig-1800x1007-1.jpg
END:VEVENT
BEGIN:VEVENT
DTSTART;VALUE=DATE:20231018
DTEND;VALUE=DATE:20231030
DTSTAMP:20260423T053541
CREATED:20230502T005750Z
LAST-MODIFIED:20230510T063921Z
UID:1676-1697587200-1698623999@schoolties.com.au
SUMMARY:Robyn Archer: An Australian Songbook
DESCRIPTION:Robyn Archer — icon\, legend of the Australian stage\, and provocateur — has thrilled audiences with her rich renditions of the great songbooks of Europe and America.  Now\, Robyn turns her distinctive and fearless talents to songs that describe the difficult\, wonderful place that is Australia. From the music of her upbringing to increasingly complex rhythms and cadences of the present\, we are taken on a journey into our beauty and our terror\, through song.  After this show\, you’ll hear our country through very different ears.  A trio of Australia’s finest stage musicians join Robyn as the Belvoir stage becomes a cabaret: piano accordion virtuoso George Butrumlis\, actor and multi-instrumentalist Cameron Goodall on guitar\, and the very deft Enio Pozzebon on keyboards.
URL:https://schoolties.com.au/whats-on/robyn-archer-an-australian-songbook/
LOCATION:Belvoir St Theatre
CATEGORIES:Music,Performing Arts
ATTACH;FMTTYPE=image/webp:https://schoolties.com.au/wp-content/uploads/2023/05/RobynArcher_Belvoir_2023-scaled-1.webp
END:VEVENT
BEGIN:VEVENT
DTSTART;VALUE=DATE:20231013
DTEND;VALUE=DATE:20231112
DTSTAMP:20260423T053541
CREATED:20230823T033355Z
LAST-MODIFIED:20230823T033355Z
UID:2607-1697155200-1699747199@schoolties.com.au
SUMMARY:A Little Night Music
DESCRIPTION:Set in Sweden in 1900\, actress Desiree Armfeldt is caught in a love triangle with lawyer Fredrik Egerman and Count Carl-Magnus Malcom…and their wives. After an unexpected invitation\, suspicion and jealousy heighten as the characters all meet for one climactic weekend in the country.
URL:https://schoolties.com.au/whats-on/a-little-night-music/
LOCATION:Hayes Theatre
CATEGORIES:Drama,Musicals,Performing Arts
ATTACH;FMTTYPE=image/webp:https://schoolties.com.au/wp-content/uploads/2023/08/2023-A-LIttle-Night-Music.webp
END:VEVENT
BEGIN:VEVENT
DTSTART;VALUE=DATE:20231012
DTEND;VALUE=DATE:20231022
DTSTAMP:20260423T053541
CREATED:20230628T044732Z
LAST-MODIFIED:20230628T044732Z
UID:2370-1697068800-1697932799@schoolties.com.au
SUMMARY:Dimanche
DESCRIPTION:Dimanche uses physical theatre to tell a dreamlike story about the uncontrollable forces of nature. Combining puppetry\, video and deadpan mime\, Dimanche observes the ingenuity of humans as they try to preserve their day-to-day habits despite the chaos of an ecological collapse.
URL:https://schoolties.com.au/whats-on/dimanche/
LOCATION:Sydney Opera House
CATEGORIES:Dance,Drama,Music,Performing Arts
ATTACH;FMTTYPE=image/webp:https://schoolties.com.au/wp-content/uploads/2023/06/2023-Dimanche.webp
END:VEVENT
BEGIN:VEVENT
DTSTART;VALUE=DATE:20230915
DTEND;VALUE=DATE:20240205
DTSTAMP:20260423T053541
CREATED:20230614T040344Z
LAST-MODIFIED:20230614T040344Z
UID:2284-1694736000-1707091199@schoolties.com.au
SUMMARY:Tarek Atoui: Waters’ Witness
DESCRIPTION:A sonic landscape and performances based on the hidden sounds of port cities. \nWaters’ Witness is based on Atoui’s ongoing project documenting the acoustic identities of port cities that are deeply connected to their harbours. Recording sounds close to the sea and under the water\, Atoui produces a unique score for each city which becomes part of the work’s growing soundscape and a source of inspiration for new sound sculptures and musical devices. Connecting docks and waterfronts from Athens to Abu Dhabi\, Singapore\, Beirut\, Porto\, Istanbul and now Sydney\, Waters’ Witness is an immersive sonic landscape that is reimagined in a different format for each presentation.
URL:https://schoolties.com.au/whats-on/tarek-atoui-waters-witness/
LOCATION:Museum of Contemporary Art
CATEGORIES:Dance,History,Performing Arts,Visual Arts
ATTACH;FMTTYPE=image/jpeg:https://schoolties.com.au/wp-content/uploads/2023/06/2023-Tarek-Atoui.jpg
END:VEVENT
BEGIN:VEVENT
DTSTART;VALUE=DATE:20230825
DTEND;VALUE=DATE:20231211
DTSTAMP:20260423T053541
CREATED:20230510T054217Z
LAST-MODIFIED:20230809T012553Z
UID:1919-1692921600-1702252799@schoolties.com.au
SUMMARY:WICKED
DESCRIPTION:The Broadway sensation WICKED looks at what happened in the Land of Oz… but from a different angle. Long before Dorothy arrives\, there is another young woman\, born with emerald-green skin\, who is smart\, fiery\, misunderstood and possessing an extraordinary talent. When she meets a bubbly blonde who is exceptionally popular\, their initial rivalry turns into the unlikeliest of friendships… until the world decides to call one “good\,” and the other one “wicked.”
URL:https://schoolties.com.au/whats-on/wicked/
LOCATION:Sydney Lyric Theatre
CATEGORIES:Dance,Musicals,Performing Arts
ATTACH;FMTTYPE=image/jpeg:https://schoolties.com.au/wp-content/uploads/2023/05/2023-Wicked.jpg
END:VEVENT
BEGIN:VEVENT
DTSTART;VALUE=DATE:20230817
DTEND;VALUE=DATE:20231014
DTSTAMP:20260423T053541
CREATED:20230502T004236Z
LAST-MODIFIED:20230510T064321Z
UID:1650-1692230400-1697241599@schoolties.com.au
SUMMARY:Miss Saigon
DESCRIPTION:Miss Saigon tells the story of Chris\, an American male GI\, who falls in love with Kim\, a young Vietnamese orphan who works as a bar-girl and prostitute. When the city falls\, the lovers are separated and Chris eventually returns to the U.S. Years later\, Chris returns to Bangkok with his American wife\, Ellen.
URL:https://schoolties.com.au/whats-on/miss-saigon/
LOCATION:Sydney Opera House
CATEGORIES:History,HSIE,Musicals,Performing Arts
ATTACH;FMTTYPE=image/jpeg:https://schoolties.com.au/wp-content/uploads/2023/05/Miss-Saigon-Ticket-in-Sydney-Opera-House.jpg
END:VEVENT
BEGIN:VEVENT
DTSTART;VALUE=DATE:20230722
DTEND;VALUE=DATE:20230821
DTSTAMP:20260423T053541
CREATED:20230614T033051Z
LAST-MODIFIED:20230614T033051Z
UID:2273-1689984000-1692575999@schoolties.com.au
SUMMARY:Adam Linder:  Hustle Harder
DESCRIPTION:The internationally acclaimed Australian choreographer Adam Linder will present a performance exhibition devised for the MCA Macgregor Gallery. Linder makes work for both the stage and gallery spaces\, often riffing on the histories and social codes that underpin these different contexts. Curated by Anneke Jaspers\, Linder’s new commission for the MCA will focus on the museum as a space in which visitors increasingly perform for the camera\, using art as a backdrop for their own image making. A cast of dancers will perform for the duration of the museum’s opening hours over a month-long period\, hustling for attention with other works in the exhibition space.
URL:https://schoolties.com.au/whats-on/adam-linder-hustle-harder/
LOCATION:Museum of Contemporary Art
CATEGORIES:Dance,Drama,Performing Arts,Visual Arts
ATTACH;FMTTYPE=image/jpeg:https://schoolties.com.au/wp-content/uploads/2023/06/2023-Adam-Linder.jpg
END:VEVENT
BEGIN:VEVENT
DTSTART;VALUE=DATE:20230701
DTEND;VALUE=DATE:20230709
DTSTAMP:20260423T053541
CREATED:20230502T050817Z
LAST-MODIFIED:20230510T064512Z
UID:1768-1688169600-1688860799@schoolties.com.au
SUMMARY:Spherical: Flying Fruit Fly Circus
DESCRIPTION:The Flying Fruit Fly Circus is back with a brand new show where knockabout comedy meets breathtaking aerials. Witness the incredible talents of young performers in this all-round circus extravaganza! \nSpherical is a brand new work\, brought to you by the fabulous Flying Fruit Fly Circus\, Australia’s National Youth Circus. Prepare to be amazed by the mind-blowing tricks\, the intricate juggling acts and the nail biting aerials inspired by the curves of the Sydney Opera House sails for our 50th anniversary. \nGet ready for this ensemble of young performers aged 11 – 18 years\, to flip\, juggle\, balance and dive their way into your heart!
URL:https://schoolties.com.au/whats-on/spherical-flying-fruit-fly-circus/
LOCATION:Sydney Opera House
CATEGORIES:Dance,Drama,Performing Arts
ATTACH;FMTTYPE=image/jpeg:https://schoolties.com.au/wp-content/uploads/2023/05/spherical.jpg
END:VEVENT
BEGIN:VEVENT
DTSTART;VALUE=DATE:20230614
DTEND;VALUE=DATE:20240101
DTSTAMP:20260423T053541
CREATED:20230614T043227Z
LAST-MODIFIED:20230614T043227Z
UID:2298-1686700800-1704067199@schoolties.com.au
SUMMARY:Devoted Service
DESCRIPTION:Devoted Service is a powerful and moving drama filled with insight and poignancy that is derived directly from the true stories of five remarkable women during the Great War.
URL:https://schoolties.com.au/whats-on/devoted-service/
LOCATION:Anzac Memorial
CATEGORIES:Drama,History,HSIE,Performing Arts
ATTACH;FMTTYPE=image/png:https://schoolties.com.au/wp-content/uploads/2023/06/2023-Devoted-Service.png
END:VEVENT
BEGIN:VEVENT
DTSTART;VALUE=DATE:20230614
DTEND;VALUE=DATE:20231106
DTSTAMP:20260423T053541
CREATED:20230510T053544Z
LAST-MODIFIED:20230529T054205Z
UID:1910-1686700800-1699228799@schoolties.com.au
SUMMARY:Beauty and the Beast
DESCRIPTION:Direct from the West End\, this enchanting and timeless tale has been brought to life in a reimagined production boasting all the spectacle and grandeur audiences know and love.
URL:https://schoolties.com.au/whats-on/1910/
LOCATION:Capitol Theatre
CATEGORIES:Drama,Musicals,Performing Arts
ATTACH;FMTTYPE=image/jpeg:https://schoolties.com.au/wp-content/uploads/2023/05/Beauty-and-the-Beast.jpg
END:VEVENT
END:VCALENDAR