BEGIN:VCALENDAR
VERSION:2.0
PRODID:-//School TIES - ECPv6.15.20//NONSGML v1.0//EN
CALSCALE:GREGORIAN
METHOD:PUBLISH
X-ORIGINAL-URL:https://schoolties.com.au
X-WR-CALDESC:Events for School TIES
REFRESH-INTERVAL;VALUE=DURATION:PT1H
X-Robots-Tag:noindex
X-PUBLISHED-TTL:PT1H
BEGIN:VTIMEZONE
TZID:Australia/Sydney
BEGIN:STANDARD
TZOFFSETFROM:+1100
TZOFFSETTO:+1000
TZNAME:AEST
DTSTART:20220402T160000
END:STANDARD
BEGIN:DAYLIGHT
TZOFFSETFROM:+1000
TZOFFSETTO:+1100
TZNAME:AEDT
DTSTART:20221001T160000
END:DAYLIGHT
BEGIN:STANDARD
TZOFFSETFROM:+1100
TZOFFSETTO:+1000
TZNAME:AEST
DTSTART:20230401T160000
END:STANDARD
BEGIN:DAYLIGHT
TZOFFSETFROM:+1000
TZOFFSETTO:+1100
TZNAME:AEDT
DTSTART:20230930T160000
END:DAYLIGHT
BEGIN:STANDARD
TZOFFSETFROM:+1100
TZOFFSETTO:+1000
TZNAME:AEST
DTSTART:20240406T160000
END:STANDARD
BEGIN:DAYLIGHT
TZOFFSETFROM:+1000
TZOFFSETTO:+1100
TZNAME:AEDT
DTSTART:20241005T160000
END:DAYLIGHT
END:VTIMEZONE
BEGIN:VEVENT
DTSTART;VALUE=DATE:20230614
DTEND;VALUE=DATE:20231106
DTSTAMP:20260422T024007
CREATED:20230510T053544Z
LAST-MODIFIED:20230529T054205Z
UID:1910-1686700800-1699228799@schoolties.com.au
SUMMARY:Beauty and the Beast
DESCRIPTION:Direct from the West End\, this enchanting and timeless tale has been brought to life in a reimagined production boasting all the spectacle and grandeur audiences know and love.
URL:https://schoolties.com.au/whats-on/1910/
LOCATION:Capitol Theatre
CATEGORIES:Drama,Musicals,Performing Arts
ATTACH;FMTTYPE=image/jpeg:https://schoolties.com.au/wp-content/uploads/2023/05/Beauty-and-the-Beast.jpg
END:VEVENT
BEGIN:VEVENT
DTSTART;VALUE=DATE:20230524
DTEND;VALUE=DATE:20230724
DTSTAMP:20260422T024007
CREATED:20230502T052935Z
LAST-MODIFIED:20230510T064554Z
UID:1775-1684886400-1690156799@schoolties.com.au
SUMMARY:MAMMA MIA! The Musical
DESCRIPTION:The original production of MAMMA MIA! opened in London’s West End in 1999 and is still playing there\, becoming the sixth longest running show in West End history. Since first wowing audiences and critics\, the production has gone on to play in over 50 countries\, in over 440 major cities\, to over 65 million people. \nMAMMA MIA! tells the tale of Sophie\, a young bride-to-be who\, on the eve of her wedding\, goes on a quest to discover the indentity of her father. Her quest brings three men from her mothers past back to the island they last visited 20 years before. What happens next is a magical story of love\, laughter and friendship.
URL:https://schoolties.com.au/whats-on/mamma-mia-the-musical/
LOCATION:Sydney Lyric Theatre
CATEGORIES:Drama,Musicals
ATTACH;FMTTYPE=image/jpeg:https://schoolties.com.au/wp-content/uploads/2023/05/MAMMA-MIA-AUSTRALIA-2023.jpg
END:VEVENT
BEGIN:VEVENT
DTSTART;VALUE=DATE:20230504
DTEND;VALUE=DATE:20240101
DTSTAMP:20260422T024007
CREATED:20230510T034519Z
LAST-MODIFIED:20230809T010535Z
UID:1852-1683158400-1704067199@schoolties.com.au
SUMMARY:Tina - The Tina Turner Musical
DESCRIPTION:Direct from Broadway\, this smash hit musical phenomenon is a celebration of an unstoppable woman who became the Queen of Rock n’ Roll.
URL:https://schoolties.com.au/whats-on/tina-the-tina-turner-musical/
LOCATION:Theatre Royal
CATEGORIES:Drama,Musicals
ATTACH;FMTTYPE=image/jpeg:https://schoolties.com.au/wp-content/uploads/2023/05/Tina-Turner.jpg
END:VEVENT
END:VCALENDAR