BEGIN:VCALENDAR
VERSION:2.0
PRODID:-//School TIES - ECPv6.15.20//NONSGML v1.0//EN
CALSCALE:GREGORIAN
METHOD:PUBLISH
X-ORIGINAL-URL:https://schoolties.com.au
X-WR-CALDESC:Events for School TIES
REFRESH-INTERVAL;VALUE=DURATION:PT1H
X-Robots-Tag:noindex
X-PUBLISHED-TTL:PT1H
BEGIN:VTIMEZONE
TZID:Australia/Sydney
BEGIN:STANDARD
TZOFFSETFROM:+1100
TZOFFSETTO:+1000
TZNAME:AEST
DTSTART:20220402T160000
END:STANDARD
BEGIN:DAYLIGHT
TZOFFSETFROM:+1000
TZOFFSETTO:+1100
TZNAME:AEDT
DTSTART:20221001T160000
END:DAYLIGHT
BEGIN:STANDARD
TZOFFSETFROM:+1100
TZOFFSETTO:+1000
TZNAME:AEST
DTSTART:20230401T160000
END:STANDARD
BEGIN:DAYLIGHT
TZOFFSETFROM:+1000
TZOFFSETTO:+1100
TZNAME:AEDT
DTSTART:20230930T160000
END:DAYLIGHT
BEGIN:STANDARD
TZOFFSETFROM:+1100
TZOFFSETTO:+1000
TZNAME:AEST
DTSTART:20240406T160000
END:STANDARD
BEGIN:DAYLIGHT
TZOFFSETFROM:+1000
TZOFFSETTO:+1100
TZNAME:AEDT
DTSTART:20241005T160000
END:DAYLIGHT
BEGIN:STANDARD
TZOFFSETFROM:+1100
TZOFFSETTO:+1000
TZNAME:AEST
DTSTART:20250405T160000
END:STANDARD
BEGIN:DAYLIGHT
TZOFFSETFROM:+1000
TZOFFSETTO:+1100
TZNAME:AEDT
DTSTART:20251004T160000
END:DAYLIGHT
BEGIN:STANDARD
TZOFFSETFROM:+1100
TZOFFSETTO:+1000
TZNAME:AEST
DTSTART:20260404T160000
END:STANDARD
BEGIN:DAYLIGHT
TZOFFSETFROM:+1000
TZOFFSETTO:+1100
TZNAME:AEDT
DTSTART:20261003T160000
END:DAYLIGHT
END:VTIMEZONE
BEGIN:VEVENT
DTSTART;VALUE=DATE:20250102
DTEND;VALUE=DATE:20250329
DTSTAMP:20260421T182957
CREATED:20240718T021338Z
LAST-MODIFIED:20240718T021338Z
UID:3049-1735776000-1743206399@schoolties.com.au
SUMMARY:Cinderella
DESCRIPTION:Once upon a time …\nYou know the fairy tale\, now feel the magic of Laurent Pelly’s whimsical production of the classic opera. \nMassenet’s classic opera is full of sumptuous music\, and this production adds humour with playful choreography and extravagant costumes. Barbara de Limburg’s extraordinary set is inspired by an original illustrated edition of the fairy tale\, complete with fold-out balcony and paper-cut carriage. \nPerformed in English\, this crowd-pleasing production is perfect for newcomers. Dust off your glass slippers and step into a land of enchantment and nostalgia.
URL:https://schoolties.com.au/whats-on/cinderella/
LOCATION:Sydney Opera House
CATEGORIES:Design,Drama,Music,Musicals,Opera,Performing Arts
ATTACH;FMTTYPE=image/jpeg:https://schoolties.com.au/wp-content/uploads/2024/07/2025-Cinderella-min.jpg
END:VEVENT
BEGIN:VEVENT
DTSTART;VALUE=DATE:20241203
DTEND;VALUE=DATE:20241215
DTSTAMP:20260421T182957
CREATED:20240821T040428Z
LAST-MODIFIED:20240821T040643Z
UID:3078-1733184000-1734220799@schoolties.com.au
SUMMARY:Bangarra - Dance Clan
DESCRIPTION:Our stories. Our emerging storytellers. Our future. \nFor over 25 years\, Dance Clan has fostered the talents of a new generation of Bangarra storytellers\, designers\, dancers and choreographers. This year\, three of our artists will tell their own stories\, developing two original dance works and one dance film.
URL:https://schoolties.com.au/whats-on/bangarra-dance-clan/
LOCATION:Studio Theatre\, Australia
CATEGORIES:Dance,Drama,Geography,History,Music,Musicals,Performing Arts
ATTACH;FMTTYPE=image/jpeg:https://schoolties.com.au/wp-content/uploads/2024/08/2024-Bangarra-Dance-Clan-min.jpg
END:VEVENT
BEGIN:VEVENT
DTSTART;VALUE=DATE:20241129
DTEND;VALUE=DATE:20250113
DTSTAMP:20260421T182957
CREATED:20230816T044544Z
LAST-MODIFIED:20240124T041251Z
UID:2597-1732838400-1736726399@schoolties.com.au
SUMMARY:The Heartbreak Choir
DESCRIPTION:Trouble is afoot in the old CFA hall on the outskirts of town. When a fracture forms in the local choir\, a small band of community misfits are pushed out into the cold. The only thing left to do? Rebrand! They’ve formed a new group\, got a cracking new name and the town’s winery is all set for their debut performance. Now\, if only they can find the perfect song to really bring the house down… \nCelebrating the healing power of music\, THE HEARTBREAK CHOIR is a joyous love song to community\, friendship and togetherness.
URL:https://schoolties.com.au/whats-on/the-heartbreak-choir/
LOCATION:Ensemble Theatre
CATEGORIES:Drama,Music,Musicals,Performing Arts
ATTACH;FMTTYPE=image/webp:https://schoolties.com.au/wp-content/uploads/2023/08/2024-The-Heartbreak-Choir.webp
END:VEVENT
BEGIN:VEVENT
DTSTART;VALUE=DATE:20241106
DTEND;VALUE=DATE:20250113
DTSTAMP:20260421T182957
CREATED:20240515T042254Z
LAST-MODIFIED:20240807T024820Z
UID:3007-1730851200-1736726399@schoolties.com.au
SUMMARY:Jesus Christ Superstar
DESCRIPTION:An album that inspired a revolution.\nA revelation that changed the world.\nA reinvention for this millennium.
URL:https://schoolties.com.au/whats-on/jesus-christ-superstar/
LOCATION:Capitol Theatre
CATEGORIES:Dance,Drama,English,History,Music,Musicals,Performing Arts
ATTACH;FMTTYPE=image/jpeg:https://schoolties.com.au/wp-content/uploads/2024/05/2024-Jesus-Christ-Superstar-min.jpg
END:VEVENT
BEGIN:VEVENT
DTSTART;VALUE=DATE:20241025
DTEND;VALUE=DATE:20241202
DTSTAMP:20260421T182957
CREATED:20231220T010534Z
LAST-MODIFIED:20240326T234822Z
UID:2861-1729814400-1733097599@schoolties.com.au
SUMMARY:SIX The Musical
DESCRIPTION:It started as a play and Broadway laughed. A movie and a TV series followed and the whole world laughed. Now\, laugh all over again with this hilarious new Australian stage production of The Odd Couple. \nFelix and Oscar\, two divorced men\, decide to share an apartment. The only problem is they’re as different as chalk and cheese. \nAustralia’s stage legends Shane Jacobson (Kenny\, Hairspray) and Todd McKenney (WICKED\, Hairspray\, Shrek) will leave you in stitches as Shane plays Oscar the cigar smoking compulsive slob and Todd plays the hyper-allergic pernickety Felix. Don’t miss the most famous mismatched duo in comedy history. The characteristics that drove each of them to leave their wives soon have them at each other’s throats in this classic comedy.
URL:https://schoolties.com.au/whats-on/six-the-musical/
LOCATION:Theatre Royal
CATEGORIES:Dance,Drama,Music,Musicals,Performing Arts
ATTACH;FMTTYPE=image/jpeg:https://schoolties.com.au/wp-content/uploads/2023/12/2024-Six-The-Musical-min.jpg
END:VEVENT
BEGIN:VEVENT
DTSTART;VALUE=DATE:20241011
DTEND;VALUE=DATE:20241110
DTSTAMP:20260421T182957
CREATED:20230927T035539Z
LAST-MODIFIED:20230927T035539Z
UID:2691-1728604800-1731196799@schoolties.com.au
SUMMARY:Flat Earthers:  The Musical
DESCRIPTION:Somewhere on the fringes of the internet\, Ria e-meets Flick and instantly falls in analogue love. They’ve never actually met IRL\, but their passion is as real as the moon landing\, the loch ness monster and the flying saucers over Roswell. That is\, until Ria learns with horror that Flick is a ‘Flat Earther’ – and Flick learns with horror that Ria is a ‘Globe Earther’. In this beautiful and chaotic electro-pop musical epic\, star-cross’d lesbians tumble into the depths of the dark web – where the most far-out\, dangerous conspiracy theories turn out to be very\, very real… \nWith a cast of wild\, OTT characters and packed with irresistible earworms\, Flat Earthers satirises our divided age of post-truth politics with a winning balance of hilarity\, absurdity\, and empathy. West Side Story meets QAnon in this unique queer pop spectacle.
URL:https://schoolties.com.au/whats-on/flat-earthers-the-musical/
LOCATION:Hayes Theatre
CATEGORIES:Dance,Drama,Music,Musicals,Performing Arts
ATTACH;FMTTYPE=image/png:https://schoolties.com.au/wp-content/uploads/2023/09/2024-Flat-Earthers-The-Musical.png
END:VEVENT
BEGIN:VEVENT
DTSTART;VALUE=DATE:20240928
DTEND;VALUE=DATE:20241104
DTSTAMP:20260421T182957
CREATED:20230913T041032Z
LAST-MODIFIED:20230913T041052Z
UID:2649-1727481600-1730678399@schoolties.com.au
SUMMARY:Well-Behaved Women
DESCRIPTION:A musical feast celebrating the women who refused to behave. \nWell-Behaved Women\, a song cycle by Carmel Dean is a musical feast by where these legends (and a few we’re keeping up our sleeves) are brought to life and reimagined through powerful and often hilarious songs\, that celebrate the ways in which their behaviour helped them make history. \nWell-behaved? As if.
URL:https://schoolties.com.au/whats-on/2649/
LOCATION:Belvoir St Theatre
CATEGORIES:Dance,Drama,Musicals,Performing Arts
ATTACH;FMTTYPE=image/webp:https://schoolties.com.au/wp-content/uploads/2023/09/Well-Behaved-Women2024-.webp
END:VEVENT
BEGIN:VEVENT
DTSTART;VALUE=DATE:20240828
DTEND;VALUE=DATE:20241103
DTSTAMP:20260421T182957
CREATED:20231018T041553Z
LAST-MODIFIED:20240130T234226Z
UID:2786-1724803200-1730591999@schoolties.com.au
SUMMARY:Sunset Boulevard
DESCRIPTION:The iconic story of a Hollywood legend\nThis thrillingly atmospheric reimagination of Sunset Boulevard features stunning sets and costumes along with the iconic score including the hits ’With One Look’\, ‘The Perfect Year’\, and the anthemic ‘As If We Never Said Goodbye’. \nSunset Boulevard is the musical event of the year.
URL:https://schoolties.com.au/whats-on/sunset-boulevard/
LOCATION:Sydney Opera House
CATEGORIES:Dance,Drama,Music,Musicals,Opera,Performing Arts
ATTACH;FMTTYPE=image/png:https://schoolties.com.au/wp-content/uploads/2023/10/2024-Sunset-Boulevard-min.png
END:VEVENT
BEGIN:VEVENT
DTSTART;VALUE=DATE:20240801
DTEND;VALUE=DATE:20240901
DTSTAMP:20260421T182957
CREATED:20240215T014505Z
LAST-MODIFIED:20240215T014505Z
UID:2910-1722470400-1725148799@schoolties.com.au
SUMMARY:Sister Act
DESCRIPTION:Sister Act follows the story of Deloris\, a quick-witted disco diva who witnesses a murder and must go into witness protection. Of all places\, she winds up in a holy covenant\, and must don the habit along with the nuns who reside there. Her difficult journey of adjusting to sisterly life and reviving the covenant’s choir is what brings all the fun and humour to this show. \nWith songs inspired by Motown\, soul and disco\, the musical is known as an all round feel-good show\, and this is the first time it’s gracing Australian shores. Lucky us!
URL:https://schoolties.com.au/whats-on/sister-act/
LOCATION:Capitol Theatre
CATEGORIES:Dance,Drama,Music,Musicals,Performing Arts
ATTACH;FMTTYPE=image/jpeg:https://schoolties.com.au/wp-content/uploads/2024/02/2024-Sister-Act-min.jpg
END:VEVENT
BEGIN:VEVENT
DTSTART;VALUE=DATE:20240730
DTEND;VALUE=DATE:20241125
DTSTAMP:20260421T182957
CREATED:20231025T043120Z
LAST-MODIFIED:20240508T041912Z
UID:2789-1722297600-1732492799@schoolties.com.au
SUMMARY:Hamilton the Musical
DESCRIPTION:A revolutionary story of passion\, unstoppable ambition\, and the dawn of a new nation. \nHAMILTON is the epic saga that follows the rise of Founding Father Alexander Hamilton as he fights for honour\, love\, and a legacy that would shape the course of a nation. Based on Ron Chernow’s acclaimed biography and set to a score that blends hip-hop\, jazz\, R&B\, and Broadway\, HAMILTON has had a profound impact on culture\, politics\, and education.
URL:https://schoolties.com.au/whats-on/hamilton-the-musical/
LOCATION:Sydney Lyric Theatre
CATEGORIES:Dance,Drama,History,Music,Musicals,Opera,Performing Arts
ATTACH;FMTTYPE=image/jpeg:https://schoolties.com.au/wp-content/uploads/2023/10/2024-Hamilton-min.jpg
END:VEVENT
BEGIN:VEVENT
DTSTART;VALUE=DATE:20240625
DTEND;VALUE=DATE:20240711
DTSTAMP:20260421T182957
CREATED:20230816T044849Z
LAST-MODIFIED:20230816T044849Z
UID:2600-1719273600-1720655999@schoolties.com.au
SUMMARY:Todd Mckenney:  Peter Allen and Me
DESCRIPTION:Todd McKenney is back at Ensemble Theatre to celebrate 40 years in showbiz with his dazzling new show! \nExuberant\, entertaining\, and bursting with energy… just a few traits Todd has in common with his idol\, Peter Allen. Praised for his stellar performance as Peter Allen in the original Australian production of THE BOY FROM OZ\, it’s only fitting that Todd returns with a tribute to the legendary entertainer who kickstarted his career. Take a journey through Allen’s greatest hits performed with a band live on stage — from crowd-pleaser ‘I Go to Rio’ to tearjerker ‘Tenterfield Saddler’. Also featuring songs from Todd’s all-time favourite artists who have influenced him over the years\, this is a special event not to be missed by musical theatre lovers. \nGrab your maracas and button up your Hawaiian shirt for some fabulously fun nostalgia.
URL:https://schoolties.com.au/whats-on/todd-mckenney-peter-allen-and-me/
LOCATION:Ensemble Theatre
CATEGORIES:Drama,English,Music,Musicals,Performing Arts
ATTACH;FMTTYPE=image/webp:https://schoolties.com.au/wp-content/uploads/2023/08/2024-Todd.webp
END:VEVENT
BEGIN:VEVENT
DTSTART;VALUE=DATE:20240612
DTEND;VALUE=DATE:20240714
DTSTAMP:20260421T182957
CREATED:20231108T025713Z
LAST-MODIFIED:20231108T025713Z
UID:2817-1718150400-1720915199@schoolties.com.au
SUMMARY:Horizon - Bangarra Dance Theatre
DESCRIPTION:Horizon joins cultural forces across oceans and eons\nThere is a place between sea and sky—a sacred realm\, where the sun rises and falls and the light is new. \nFrom two of the world’s great First Nations comes a brand-new work: Horizon. Some call it a feeling\, some call it the mother spirit. It’s the place where sea meets sky\, the horizon we all look to\, the compass that guides us home.
URL:https://schoolties.com.au/whats-on/horizon-bangarra-dance-theatre/
LOCATION:Sydney Opera House
CATEGORIES:Dance,Geography,Musicals,Performing Arts
ATTACH;FMTTYPE=image/webp:https://schoolties.com.au/wp-content/uploads/2023/11/2024-Horizon-Bangarra-Dance-Theatre-min.webp
END:VEVENT
BEGIN:VEVENT
DTSTART;VALUE=DATE:20240601
DTEND;VALUE=DATE:20240701
DTSTAMP:20260421T182957
CREATED:20230913T043051Z
LAST-MODIFIED:20230913T043051Z
UID:2666-1717200000-1719791999@schoolties.com.au
SUMMARY:Chicago
DESCRIPTION:Murder\, greed\, corruption\, exploitation\, adultery\, treachery… and All That Jazz… so begins the international multi-award-winning musical\, CHICAGO.
URL:https://schoolties.com.au/whats-on/chicago/
LOCATION:Capitol Theatre
CATEGORIES:Dance,Drama,Music,Musicals,Performing Arts
ATTACH;FMTTYPE=image/jpeg:https://schoolties.com.au/wp-content/uploads/2023/09/2024-Chicago.jpg
END:VEVENT
BEGIN:VEVENT
DTSTART;VALUE=DATE:20240523
DTEND;VALUE=DATE:20240623
DTSTAMP:20260421T182957
CREATED:20230927T034706Z
LAST-MODIFIED:20230927T034706Z
UID:2682-1716422400-1719100799@schoolties.com.au
SUMMARY:Ride The Cyclone
DESCRIPTION:In this hilarious and exhilarating story\, the lives of six teenagers from a Canadian chamber choir are cut short in a freak accident aboard a rollercoaster. When they awake in limbo\, a mechanical fortune teller invites each to tell a story to win a prize like no other – the chance to return to life. Bursting with witty\, memorable songs and featuring some of the most compelling characters in modern musical theatre\, this remarkable show makes a uniquely uplifting and deeply funny case for what makes a life worth living.
URL:https://schoolties.com.au/whats-on/ride-the-cyclone/
LOCATION:Hayes Theatre
CATEGORIES:Dance,Drama,Music,Musicals,Performing Arts
ATTACH;FMTTYPE=image/png:https://schoolties.com.au/wp-content/uploads/2023/09/2024-Ride-The-Cyclone.png
END:VEVENT
BEGIN:VEVENT
DTSTART;VALUE=DATE:20240331
DTEND;VALUE=DATE:20240513
DTSTAMP:20260421T182957
CREATED:20231025T043836Z
LAST-MODIFIED:20240208T024859Z
UID:2792-1711843200-1715558399@schoolties.com.au
SUMMARY:The Rocky Horror Show
DESCRIPTION:Ready to thrill you with its frothy fun\, this is the boldest bash of them all\, so sharpen those stilettos for the rockiest ride of your life. Follow squeaky-clean sweethearts Brad and Janet on an adventure they’ll never forget. Bursting at the seams with timeless classics\, including the Time Warp\, it’s a guaranteed party!
URL:https://schoolties.com.au/whats-on/the-rocky-horror-show/
LOCATION:Theatre Royal
CATEGORIES:Dance,Drama,Music,Musicals,Performing Arts
ATTACH;FMTTYPE=image/jpeg:https://schoolties.com.au/wp-content/uploads/2023/10/2024-Rocky-Horror-Show-min.jpg
END:VEVENT
BEGIN:VEVENT
DTSTART;VALUE=DATE:20240324
DTEND;VALUE=DATE:20240429
DTSTAMP:20260421T182957
CREATED:20230913T042704Z
LAST-MODIFIED:20230913T042826Z
UID:2662-1711238400-1714348799@schoolties.com.au
SUMMARY:Grease
DESCRIPTION:GREASE is back\, in an all-new production\, and it promises to be slicker\, sexier\, and more electrifying than ever before. \nIt’s one of the world’s most iconic and loved musicals and nothing beats the feeling you get\, going back to Rydell High. \nA medley of unforgettable hits that defined a generation make GREASE the ultimate and original party musical! Summer Nights\, Sandy\, Hopelessly Devoted to You\, You’re The One That I Want\, Greased Lightnin’\, and Grease is the Word. There’s a reason this soundtrack will never go out of style.
URL:https://schoolties.com.au/whats-on/grease/
LOCATION:Capitol Theatre
CATEGORIES:Dance,Drama,Music,Musicals,Performing Arts
END:VEVENT
BEGIN:VEVENT
DTSTART;VALUE=DATE:20240309
DTEND;VALUE=DATE:20240318
DTSTAMP:20260421T182957
CREATED:20230913T042054Z
LAST-MODIFIED:20230913T042054Z
UID:2659-1709942400-1710719999@schoolties.com.au
SUMMARY:Shen Yun
DESCRIPTION:The traditional Chinese culture Shen Yun presents cannot be seen anywhere else in the world—not even in China. Experience a lost culture through the incredible art of classical Chinese dance\, and see legends come to life. Shen Yun tours to over 150 cities around the world each year. Some people fly from other countries or drive hundreds of miles to see it. Others see the same performance five or six times. Why? Many say there are no words to describe it—you have to see it with your own eyes to find out. Join us for the experience of a lifetime. Be prepared for a theatrical experience that will take your breath away!
URL:https://schoolties.com.au/whats-on/shen-yun/
LOCATION:Capitol Theatre
CATEGORIES:Dance,Drama,Musicals,Performing Arts
ATTACH;FMTTYPE=image/jpeg:https://schoolties.com.au/wp-content/uploads/2023/09/2024-Shen-Yun.jpg
END:VEVENT
BEGIN:VEVENT
DTSTART;VALUE=DATE:20240304
DTEND;VALUE=DATE:20240305
DTSTAMP:20260421T182957
CREATED:20231004T041012Z
LAST-MODIFIED:20231004T041012Z
UID:2762-1709510400-1709596799@schoolties.com.au
SUMMARY:HSC - Encore
DESCRIPTION:Encore recognises the exceptional major works created by HSC Music Students\, showcasing performances and compositions selected from the previous year’s HSC exams. \nENCORE is a program of outstanding performances and compositions by students from the HSC Music examinations.
URL:https://schoolties.com.au/whats-on/hsc-encore/
LOCATION:Sydney Opera House
CATEGORIES:Music,Musicals,Opera
ATTACH;FMTTYPE=image/png:https://schoolties.com.au/wp-content/uploads/2023/10/2024-Encore.png
END:VEVENT
BEGIN:VEVENT
DTSTART;TZID=Australia/Sydney:20240225T080000
DTEND;TZID=Australia/Sydney:20240429T170000
DTSTAMP:20260421T182957
CREATED:20230822T234844Z
LAST-MODIFIED:20230906T045251Z
UID:2604-1708848000-1714410000@schoolties.com.au
SUMMARY:& Juliet
DESCRIPTION:This hilarious\, inspiring and poignant new musical is a celebration of self-discovery and second chances! \nShakespeare gets remixed with some of the world’s most loved and glittering pop anthems from legendary songwriter and #1 Hitmaker; Max Martin.
URL:https://schoolties.com.au/whats-on/juliet/
LOCATION:Sydney Lyric Theatre
CATEGORIES:Dance,Drama,Music,Musicals,Performing Arts
ATTACH;FMTTYPE=image/webp:https://schoolties.com.au/wp-content/uploads/2023/08/2024-Juliet.webp
END:VEVENT
BEGIN:VEVENT
DTSTART;VALUE=DATE:20240220
DTEND;VALUE=DATE:20240306
DTSTAMP:20260421T182957
CREATED:20230913T041752Z
LAST-MODIFIED:20230913T041752Z
UID:2656-1708387200-1709683199@schoolties.com.au
SUMMARY:Alice's Adventures in Wonderland
DESCRIPTION:Alice’s Adventures in Wonderland © returns to take audiences back down the rabbit hole in February 2024. Translated from Lewis Carroll’s beloved book\, Alice brings the eccentricities of the original story to the ballet stage in a tale suitable for the whole family. Watch as The Queen of Hearts rampages around her court\, the White Rabbit shimmies his tail and the Caterpillar sparkles in 16 crystal-covered pointe shoes.
URL:https://schoolties.com.au/whats-on/alices-adventures-in-wonderland/
LOCATION:Capitol Theatre
CATEGORIES:Dance,Drama,Musicals,Performing Arts
ATTACH;FMTTYPE=image/jpeg:https://schoolties.com.au/wp-content/uploads/2023/09/2024-Alice-in-Wonderland.jpg
END:VEVENT
BEGIN:VEVENT
DTSTART;VALUE=DATE:20240215
DTEND;VALUE=DATE:20240217
DTSTAMP:20260421T182957
CREATED:20231004T041257Z
LAST-MODIFIED:20231004T041257Z
UID:2765-1707955200-1708127999@schoolties.com.au
SUMMARY:HSC - Callback
DESCRIPTION:The annual showcase of exemplary performances and compositions by HSC students of dance. \nCallback is an unforgettable experience that highlights the importance of fostering and supporting creativity in our youth.
URL:https://schoolties.com.au/whats-on/hsc-callback/
LOCATION:Seymour Centre
CATEGORIES:Dance,Drama,Musicals,Performing Arts
ATTACH;FMTTYPE=image/png:https://schoolties.com.au/wp-content/uploads/2023/10/2024-Callback.png
END:VEVENT
BEGIN:VEVENT
DTSTART;VALUE=DATE:20240212
DTEND;VALUE=DATE:20240216
DTSTAMP:20260421T182957
CREATED:20231101T021925Z
LAST-MODIFIED:20231101T021925Z
UID:2809-1707696000-1708041599@schoolties.com.au
SUMMARY:Introduction To Devising Theatre For HSC Group Performance
DESCRIPTION:One week of intensive workshops devised as a structured introduction to the devising process for HSC group performance.\nStudents will cover four key areas:\n• Operating as an ensemble\n• Celebrating your skill set and embracing improvisation\n• Making meaning using the elements of drama\n• Forming a structure (using the “big six” as a basic structure)\nThe workshop will end with a miniature group devising activityusing exercises from the day\, followed by a showing\,\ndiscussion\, and question time.
URL:https://schoolties.com.au/whats-on/introduction-to-devising-theatre-for-hsc-group-performance/
LOCATION:Seymour Centre
CATEGORIES:Dance,Drama,Musicals,Performing Arts
END:VEVENT
BEGIN:VEVENT
DTSTART;VALUE=DATE:20240210
DTEND;VALUE=DATE:20240217
DTSTAMP:20260421T182957
CREATED:20231004T041604Z
LAST-MODIFIED:20231004T041604Z
UID:2768-1707523200-1708127999@schoolties.com.au
SUMMARY:HSC - OnSTAGE
DESCRIPTION:OnSTAGE is a presentation of exemplary performances and projects by HSC Drama students.
URL:https://schoolties.com.au/whats-on/hsc-onstage/
LOCATION:Seymour Centre
CATEGORIES:Dance,Drama,Music,Musicals,Performing Arts
ATTACH;FMTTYPE=image/png:https://schoolties.com.au/wp-content/uploads/2023/10/2024-OnSTAGE.png
END:VEVENT
BEGIN:VEVENT
DTSTART;VALUE=DATE:20240204
DTEND;VALUE=DATE:20240310
DTSTAMP:20260421T182957
CREATED:20230510T053853Z
LAST-MODIFIED:20240124T021726Z
UID:1917-1707004800-1710028799@schoolties.com.au
SUMMARY:Elvis A Musical Revolution
DESCRIPTION:The Icon. The King. The story of a man who gave the world a musical revolution. \nFeaturing over 40 hit songs\, Elvis: A Musical Revolution celebrates the extraordinary life of award winning\, cultural icon\, Elvis Presley. From his childhood in Mississippi\, to his triumphant ‘68 Comeback Special\, and ascent to become ‘The King of Rock ‘n’ Roll’\, this brand-new high-energy production explores the pivotal moments in Elvis’s life and music career through the perspectives of those who knew him best.
URL:https://schoolties.com.au/whats-on/elvis-a-musical-revolution/
LOCATION:State Theatre
CATEGORIES:Musicals
ATTACH;FMTTYPE=image/jpeg:https://schoolties.com.au/wp-content/uploads/2023/05/Elvis.jpeg
END:VEVENT
BEGIN:VEVENT
DTSTART;VALUE=DATE:20231013
DTEND;VALUE=DATE:20231112
DTSTAMP:20260421T182957
CREATED:20230823T033355Z
LAST-MODIFIED:20230823T033355Z
UID:2607-1697155200-1699747199@schoolties.com.au
SUMMARY:A Little Night Music
DESCRIPTION:Set in Sweden in 1900\, actress Desiree Armfeldt is caught in a love triangle with lawyer Fredrik Egerman and Count Carl-Magnus Malcom…and their wives. After an unexpected invitation\, suspicion and jealousy heighten as the characters all meet for one climactic weekend in the country.
URL:https://schoolties.com.au/whats-on/a-little-night-music/
LOCATION:Hayes Theatre
CATEGORIES:Drama,Musicals,Performing Arts
ATTACH;FMTTYPE=image/webp:https://schoolties.com.au/wp-content/uploads/2023/08/2023-A-LIttle-Night-Music.webp
END:VEVENT
BEGIN:VEVENT
DTSTART;VALUE=DATE:20230825
DTEND;VALUE=DATE:20231211
DTSTAMP:20260421T182957
CREATED:20230510T054217Z
LAST-MODIFIED:20230809T012553Z
UID:1919-1692921600-1702252799@schoolties.com.au
SUMMARY:WICKED
DESCRIPTION:The Broadway sensation WICKED looks at what happened in the Land of Oz… but from a different angle. Long before Dorothy arrives\, there is another young woman\, born with emerald-green skin\, who is smart\, fiery\, misunderstood and possessing an extraordinary talent. When she meets a bubbly blonde who is exceptionally popular\, their initial rivalry turns into the unlikeliest of friendships… until the world decides to call one “good\,” and the other one “wicked.”
URL:https://schoolties.com.au/whats-on/wicked/
LOCATION:Sydney Lyric Theatre
CATEGORIES:Dance,Musicals,Performing Arts
ATTACH;FMTTYPE=image/jpeg:https://schoolties.com.au/wp-content/uploads/2023/05/2023-Wicked.jpg
END:VEVENT
BEGIN:VEVENT
DTSTART;VALUE=DATE:20230817
DTEND;VALUE=DATE:20231014
DTSTAMP:20260421T182957
CREATED:20230502T004236Z
LAST-MODIFIED:20230510T064321Z
UID:1650-1692230400-1697241599@schoolties.com.au
SUMMARY:Miss Saigon
DESCRIPTION:Miss Saigon tells the story of Chris\, an American male GI\, who falls in love with Kim\, a young Vietnamese orphan who works as a bar-girl and prostitute. When the city falls\, the lovers are separated and Chris eventually returns to the U.S. Years later\, Chris returns to Bangkok with his American wife\, Ellen.
URL:https://schoolties.com.au/whats-on/miss-saigon/
LOCATION:Sydney Opera House
CATEGORIES:History,HSIE,Musicals,Performing Arts
ATTACH;FMTTYPE=image/jpeg:https://schoolties.com.au/wp-content/uploads/2023/05/Miss-Saigon-Ticket-in-Sydney-Opera-House.jpg
END:VEVENT
BEGIN:VEVENT
DTSTART;VALUE=DATE:20230722
DTEND;VALUE=DATE:20230828
DTSTAMP:20260421T182957
CREATED:20230510T060200Z
LAST-MODIFIED:20230614T033544Z
UID:1931-1689984000-1693180799@schoolties.com.au
SUMMARY:Sweeney Todd
DESCRIPTION:The Demon Barber of Fleet Street \nThere once was a barber who had it all; a happy life\, a beautiful wife – until it all ended in bitter strife. The barber Benjamin Barker loses it all in one savage act of treachery. Now known as Sweeney Todd\, he’s slicing his way through Victorian London in search of vengeance with his twisted baker-in-crime\, Mrs. Lovett\, by his side.
URL:https://schoolties.com.au/whats-on/sweeney-todd/
LOCATION:Sydney Opera House
CATEGORIES:Drama,History,Musicals
ATTACH;FMTTYPE=image/webp:https://schoolties.com.au/wp-content/uploads/2023/05/2023-Sweeney-Todd.webp
END:VEVENT
BEGIN:VEVENT
DTSTART;VALUE=DATE:20230614
DTEND;VALUE=DATE:20231106
DTSTAMP:20260421T182957
CREATED:20230510T053544Z
LAST-MODIFIED:20230529T054205Z
UID:1910-1686700800-1699228799@schoolties.com.au
SUMMARY:Beauty and the Beast
DESCRIPTION:Direct from the West End\, this enchanting and timeless tale has been brought to life in a reimagined production boasting all the spectacle and grandeur audiences know and love.
URL:https://schoolties.com.au/whats-on/1910/
LOCATION:Capitol Theatre
CATEGORIES:Drama,Musicals,Performing Arts
ATTACH;FMTTYPE=image/jpeg:https://schoolties.com.au/wp-content/uploads/2023/05/Beauty-and-the-Beast.jpg
END:VEVENT
BEGIN:VEVENT
DTSTART;VALUE=DATE:20230524
DTEND;VALUE=DATE:20230724
DTSTAMP:20260421T182957
CREATED:20230502T052935Z
LAST-MODIFIED:20230510T064554Z
UID:1775-1684886400-1690156799@schoolties.com.au
SUMMARY:MAMMA MIA! The Musical
DESCRIPTION:The original production of MAMMA MIA! opened in London’s West End in 1999 and is still playing there\, becoming the sixth longest running show in West End history. Since first wowing audiences and critics\, the production has gone on to play in over 50 countries\, in over 440 major cities\, to over 65 million people. \nMAMMA MIA! tells the tale of Sophie\, a young bride-to-be who\, on the eve of her wedding\, goes on a quest to discover the indentity of her father. Her quest brings three men from her mothers past back to the island they last visited 20 years before. What happens next is a magical story of love\, laughter and friendship.
URL:https://schoolties.com.au/whats-on/mamma-mia-the-musical/
LOCATION:Sydney Lyric Theatre
CATEGORIES:Drama,Musicals
ATTACH;FMTTYPE=image/jpeg:https://schoolties.com.au/wp-content/uploads/2023/05/MAMMA-MIA-AUSTRALIA-2023.jpg
END:VEVENT
END:VCALENDAR