BEGIN:VCALENDAR
VERSION:2.0
PRODID:-//School TIES - ECPv6.15.20//NONSGML v1.0//EN
CALSCALE:GREGORIAN
METHOD:PUBLISH
X-WR-CALNAME:School TIES
X-ORIGINAL-URL:https://schoolties.com.au
X-WR-CALDESC:Events for School TIES
REFRESH-INTERVAL;VALUE=DURATION:PT1H
X-Robots-Tag:noindex
X-PUBLISHED-TTL:PT1H
BEGIN:VTIMEZONE
TZID:Australia/Sydney
BEGIN:STANDARD
TZOFFSETFROM:+1100
TZOFFSETTO:+1000
TZNAME:AEST
DTSTART:20250405T160000
END:STANDARD
BEGIN:DAYLIGHT
TZOFFSETFROM:+1000
TZOFFSETTO:+1100
TZNAME:AEDT
DTSTART:20251004T160000
END:DAYLIGHT
BEGIN:STANDARD
TZOFFSETFROM:+1100
TZOFFSETTO:+1000
TZNAME:AEST
DTSTART:20260404T160000
END:STANDARD
BEGIN:DAYLIGHT
TZOFFSETFROM:+1000
TZOFFSETTO:+1100
TZNAME:AEDT
DTSTART:20261003T160000
END:DAYLIGHT
BEGIN:STANDARD
TZOFFSETFROM:+1100
TZOFFSETTO:+1000
TZNAME:AEST
DTSTART:20270403T160000
END:STANDARD
BEGIN:DAYLIGHT
TZOFFSETFROM:+1000
TZOFFSETTO:+1100
TZNAME:AEDT
DTSTART:20271002T160000
END:DAYLIGHT
END:VTIMEZONE
BEGIN:VEVENT
DTSTART;VALUE=DATE:20260501
DTEND;VALUE=DATE:20260701
DTSTAMP:20260421T043738
CREATED:20250702T032407Z
LAST-MODIFIED:20250702T032407Z
UID:3419-1777593600-1782863999@schoolties.com.au
SUMMARY:Anastasia
DESCRIPTION:ANASTASIA The Broadway Musical\, the romantic and adventure-filled hit musical inspired by the beloved films\, is coming to Australia for the first time! \nThis dazzling production transports you from the twilight years of the Imperial rule to the euphoria of 1920s Paris.  ANASTASIA follows a brave young woman on a journey to discover the mystery of her past. Pursued by an army officer determined to silence her\, Anya enlists the aid of a dashing conman and a lovable ex-aristocrat. Together\, they embark on an epic adventure to help her find home\, love\, and family. \nWith much-loved songs like Journey to the Past and Once Upon a December\, ANASTASIA has captivated audiences around the world—hailed as “A MONSTER HIT!” by The New York Times and “Irresistible!” by Variety.
URL:https://schoolties.com.au/whats-on/anastasia/
LOCATION:Sydney Lyric Theatre
CATEGORIES:Dance,Drama,English,Music,Musicals,Opera,Performing Arts
ATTACH;FMTTYPE=image/jpeg:https://schoolties.com.au/wp-content/uploads/2025/07/2025-Anastasia-min.jpg
END:VEVENT
BEGIN:VEVENT
DTSTART;VALUE=DATE:20260724
DTEND;VALUE=DATE:20260913
DTSTAMP:20260421T043738
CREATED:20260401T041844Z
LAST-MODIFIED:20260401T042437Z
UID:3532-1784851200-1789257599@schoolties.com.au
SUMMARY:Velvet Inferno
DESCRIPTION:Velvet Inferno is a 70-minute\, non-stop disco spectacular with boiling hot vocals and jaw-dropping circus acts. Directed by Craig Ilott (Gatsby at the Green Light\, L’Hotel\, Velvet Rewired)\, expect timeless dancefloor anthems\, powerhouse performances and gravity-defying acts. \nBe electrified by a red-hot soundtrack of disco classics: If You Could Read My Mind\, Raining Men\, No More Tears. \nInspired by Studio 54\, the legendary New York nightclub famed for its wild parties and radical inclusivity. Blind to colour\, creed\, class\, gender\, size\, shape or sexuality. A place where icons like Andy Warhol\, Mick Jagger and Grace Jones once strutted their stuff. \nThe disco is coming. Drinks will flow. The dancefloor will be red-hot. Are you ready to join the party?
URL:https://schoolties.com.au/whats-on/velvet-inferno/
LOCATION:Sydney Opera House
CATEGORIES:Dance,Music,Opera,Performing Arts
ATTACH;FMTTYPE=image/jpeg:https://schoolties.com.au/wp-content/uploads/2026/04/2026-Velvet-Inferno.jpg
END:VEVENT
BEGIN:VEVENT
DTSTART;VALUE=DATE:20260912
DTEND;VALUE=DATE:20261026
DTSTAMP:20260421T043738
CREATED:20260401T040517Z
LAST-MODIFIED:20260401T040804Z
UID:3524-1789171200-1792972799@schoolties.com.au
SUMMARY:My Fair Lady
DESCRIPTION:Lerner and Loewe’s My Fair Lady comes to Sydney Opera House to celebrate 70 years since its glorious Broadway debut. \nThis lavish recreation is based on the 2016 Australian production directed by Julie Andrews\, who was catapulted into stardom when she originated the role of Eliza Doolittle\, an irrepressible Cockney flower girl who transforms into a lady of society. \nA heartwarming story of identity and change\, My Fair Lady brims with razor sharp wit\, unforgettable characters\, and a stunning score including ‘Wouldn’t It Be Loverly?’\, ‘I Could Have Danced All Night’ and ‘Get Me to the Church on Time’. \nFrom its groundbreaking Broadway debut to the iconic Oscar winning film\, My Fair Lady remains one of the world’s most enduring and loved musical treasures.
URL:https://schoolties.com.au/whats-on/my-fair-lady/
LOCATION:Joan Sutherland Theatre
CATEGORIES:Dance,Design,Drama,English,Music,Musicals,Performing Arts
ATTACH;FMTTYPE=image/jpeg:https://schoolties.com.au/wp-content/uploads/2026/04/2026-My-Fair-Lady.jpg
END:VEVENT
END:VCALENDAR