BEGIN:VCALENDAR
VERSION:2.0
PRODID:-//School TIES - ECPv6.15.20//NONSGML v1.0//EN
CALSCALE:GREGORIAN
METHOD:PUBLISH
X-WR-CALNAME:School TIES
X-ORIGINAL-URL:https://schoolties.com.au
X-WR-CALDESC:Events for School TIES
REFRESH-INTERVAL;VALUE=DURATION:PT1H
X-Robots-Tag:noindex
X-PUBLISHED-TTL:PT1H
BEGIN:VTIMEZONE
TZID:Australia/Sydney
BEGIN:STANDARD
TZOFFSETFROM:+1100
TZOFFSETTO:+1000
TZNAME:AEST
DTSTART:20220402T160000
END:STANDARD
BEGIN:DAYLIGHT
TZOFFSETFROM:+1000
TZOFFSETTO:+1100
TZNAME:AEDT
DTSTART:20221001T160000
END:DAYLIGHT
BEGIN:STANDARD
TZOFFSETFROM:+1100
TZOFFSETTO:+1000
TZNAME:AEST
DTSTART:20230401T160000
END:STANDARD
BEGIN:DAYLIGHT
TZOFFSETFROM:+1000
TZOFFSETTO:+1100
TZNAME:AEDT
DTSTART:20230930T160000
END:DAYLIGHT
BEGIN:STANDARD
TZOFFSETFROM:+1100
TZOFFSETTO:+1000
TZNAME:AEST
DTSTART:20240406T160000
END:STANDARD
BEGIN:DAYLIGHT
TZOFFSETFROM:+1000
TZOFFSETTO:+1100
TZNAME:AEDT
DTSTART:20241005T160000
END:DAYLIGHT
BEGIN:STANDARD
TZOFFSETFROM:+1100
TZOFFSETTO:+1000
TZNAME:AEST
DTSTART:20250405T160000
END:STANDARD
BEGIN:DAYLIGHT
TZOFFSETFROM:+1000
TZOFFSETTO:+1100
TZNAME:AEDT
DTSTART:20251004T160000
END:DAYLIGHT
END:VTIMEZONE
BEGIN:VEVENT
DTSTART;VALUE=DATE:20240905
DTEND;VALUE=DATE:20241013
DTSTAMP:20260421T214919
CREATED:20230927T043820Z
LAST-MODIFIED:20230927T043820Z
UID:2730-1725494400-1728777599@schoolties.com.au
SUMMARY:Julia
DESCRIPTION:In 2012\, Julia Gillard gave a speech that sent shockwaves around the world. Now\, over a decade later\, a group of Australia’s finest theatre-makers – Playwright Joanna Murray-Smith\, Director Sarah Goodes\, Designer Renée Mulder\, and an outstanding creative team\, along with Clarke and exciting newcomer Jessica Bentley – have created a stirring and inspiring re-examination of that moment and a revelatory portrait of the woman who made it all happen. \nJulia is both a compelling insight into the person behind the public mask\, and a reflection on the experience of women in contemporary politics.
URL:https://schoolties.com.au/whats-on/julia/
LOCATION:Sydney Opera House
CATEGORIES:Drama,English,Legal Studies,Performing Arts
ATTACH;FMTTYPE=image/jpeg:https://schoolties.com.au/wp-content/uploads/2023/09/2024-Julie.jpg
END:VEVENT
BEGIN:VEVENT
DTSTART;VALUE=DATE:20240730
DTEND;VALUE=DATE:20240818
DTSTAMP:20260421T214919
CREATED:20240416T235952Z
LAST-MODIFIED:20240416T235952Z
UID:2995-1722297600-1723939199@schoolties.com.au
SUMMARY:The Woman in Black
DESCRIPTION:The Woman in Black tells the story of a lawyer obsessed with a curse that he believes has been cast over him and his family by the spectre of a Woman in Black. He engages a sceptical young actor to help him tell his terrifying story and exorcise the fear that grips his soul. It all begins innocently enough\, but then\, as they reach further into his darkest memories\, they find themselves caught up in a world of eerie marshes and moaning winds.
URL:https://schoolties.com.au/whats-on/the-woman-in-black/
LOCATION:Theatre Royal
CATEGORIES:Drama,English,Legal Studies,Performing Arts
ATTACH;FMTTYPE=image/jpeg:https://schoolties.com.au/wp-content/uploads/2024/04/2024-The-Woman-in-Black-min-1.jpg
END:VEVENT
BEGIN:VEVENT
DTSTART;VALUE=DATE:20240604
DTEND;VALUE=DATE:20240624
DTSTAMP:20260421T214919
CREATED:20240416T233852Z
LAST-MODIFIED:20240416T233852Z
UID:2992-1717459200-1719187199@schoolties.com.au
SUMMARY:The Gospel According to Paul
DESCRIPTION:Australia’s master of political satire\, Jonathan Biggins is Paul Keating — visionary\, reformer and rabble-rouser. Due to popular demand\, this unmissable one-man comedy is returning to office for a final term following a critically acclaimed sell-out season.
URL:https://schoolties.com.au/whats-on/the-gospel-according-to-paul/
LOCATION:Sydney Opera House
CATEGORIES:Drama,English,History,Legal Studies
ATTACH;FMTTYPE=image/jpeg:https://schoolties.com.au/wp-content/uploads/2024/04/2024-The-Gospel-According-to-Paul-min.jpg
END:VEVENT
BEGIN:VEVENT
DTSTART;VALUE=DATE:20240221
DTEND;VALUE=DATE:20240325
DTSTAMP:20260421T214919
CREATED:20231018T035741Z
LAST-MODIFIED:20231128T235000Z
UID:2783-1708473600-1711324799@schoolties.com.au
SUMMARY:The Lehman Trilogy
DESCRIPTION:The Lehman Trilogy features a cast of three playing the Lehman brothers\, their sons and grandsons\, in an extraordinary feat of storytelling told in three parts on a single evening. The Lehman Trilogy is the story of a family and a company that changed the world. \nOn a cold September morning in 1844\, a young man from Bavaria stands on a New York dockside dreaming of a new life in the new world. He is joined by his two brothers\, and an American epic begins. 163 years later\, the firm they establish – Lehman Brothers – spectacularly collapses into bankruptcy\, triggering the largest financial crisis in history.
URL:https://schoolties.com.au/whats-on/the-lehman-trilogy/
LOCATION:Theatre Royal
CATEGORIES:Drama,History,Legal Studies,Performing Arts
ATTACH;FMTTYPE=image/png:https://schoolties.com.au/wp-content/uploads/2023/10/2024-The-Lehman-Trilogy-min.png
END:VEVENT
BEGIN:VEVENT
DTSTART;VALUE=DATE:20240209
DTEND;VALUE=DATE:20240324
DTSTAMP:20260421T214919
CREATED:20230927T042002Z
LAST-MODIFIED:20230927T042002Z
UID:2709-1707436800-1711238399@schoolties.com.au
SUMMARY:RBG: Of Many\, One
DESCRIPTION:The second woman to be appointed to the US Supreme Court\, Ruth Bader Ginsburg was both a trailblazer in the American judiciary and a fierce advocate for gender equality and reproductive rights. Now\, her life is brought to the stage by the extraordinary pen of Olivier Award-winning Australian playwright Suzie Miller (Prima Facie)\, in a story that chronicles Ginsburg’s wins and dissents\, traces her steps forward and the steps back\, and brings you right into the room with Ruth at the most pivotal moments of her life.
URL:https://schoolties.com.au/whats-on/rbg-of-many-one/
LOCATION:Sydney Opera House
CATEGORIES:Drama,English,Legal Studies,Performing Arts
ATTACH;FMTTYPE=image/jpeg:https://schoolties.com.au/wp-content/uploads/2023/09/2024-RBG-Of-Many-One.jpg
END:VEVENT
BEGIN:VEVENT
DTSTART;VALUE=DATE:20231108
DTEND;VALUE=DATE:20231211
DTSTAMP:20260421T214919
CREATED:20230726T023634Z
LAST-MODIFIED:20230726T023658Z
UID:2411-1699401600-1702252799@schoolties.com.au
SUMMARY:The Wharf Revue:  Pride in Prejudice
DESCRIPTION:The Wharf Revue is back for another year of sensational value! Satirical content is up by 7%\, the average laughter quotient is indexed at 8.3% over the forward estimates but the Wharf Revue defies the cost-of-living pressure by keeping the ticket price at the same level as last year! Take that\, Phillip Lowe!
URL:https://schoolties.com.au/whats-on/the-wharf-revue-pride-in-prejudice/
LOCATION:Seymour Centre
CATEGORIES:Drama,English,Legal Studies,Performing Arts
ATTACH;FMTTYPE=image/jpeg:https://schoolties.com.au/wp-content/uploads/2023/07/2023-Wharf-Review-Pride-in-Prejudice.jpg
END:VEVENT
BEGIN:VEVENT
DTSTART;VALUE=DATE:20230826
DTEND;VALUE=DATE:20231002
DTSTAMP:20260421T214919
CREATED:20230510T042038Z
LAST-MODIFIED:20230510T064232Z
UID:1894-1693008000-1696204799@schoolties.com.au
SUMMARY:The Dismissal
DESCRIPTION:Newly deposed Prime Minister Gough Whitlam descends the steps of Parliament House to rage against his dismissal by Governor-General Sir John Kerr\, who has replaced him with the opposition leader\, Malcolm Fraser. A scoop of reporters throng toward him—chief among them Gold Logie-winner\, beloved larrikin\, and Wollongong’s favourite son: Norman Gunston.
URL:https://schoolties.com.au/whats-on/the-dismissal/
LOCATION:Seymour Centre
CATEGORIES:Drama,History,Legal Studies
END:VEVENT
END:VCALENDAR